Workbook

Sheet Natijalar
A1: Botanica BC — moliyaviy model: sotish · ijara · gibrid
A2: Baholanayotgan tomon: MULKDOR (developer). Xaridor-investor va biznes operatori — alohida varaqlarda. Hisob davri: 2026-yil oktabrdan, qurilish + 10 yil ekspluatatsiya. USD, QQSsiz, foyda solig'idan keyin, qarz mablag'isiz.
A4: Ko'rsatkich | B4: A · Kons | C4: A · Baza | D4: A · Opt | E4: B · Kons | F4: B · Baza | G4: B · Opt | H4: C · Kons | I4: C · Baza | J4: C · Opt
A5: Jami investitsiya (yer + qurilish + tayyorlash), $ | B5: =Hisob_A_Sotish!$C$19+Hisob_A_Sotish!$C$16+Hisob_A_Sotish!$C$18 -> 4677603 | C5: =Hisob_A_Sotish!$C$52+Hisob_A_Sotish!$C$49+Hisob_A_Sotish!$C$51 -> 3940478.8 | D5: =Hisob_A_Sotish!$C$85+Hisob_A_Sotish!$C$82+Hisob_A_Sotish!$C$84 -> 3380273.5 | E5: =Hisob_B_Ijara!$C$19+Hisob_B_Ijara!$C$16+Hisob_B_Ijara!$C$18 -> 5063913 | F5: =Hisob_B_Ijara!$C$52+Hisob_B_Ijara!$C$49+Hisob_B_Ijara!$C$51 -> 4275280.8 | G5: =Hisob_B_Ijara!$C$85+Hisob_B_Ijara!$C$82+Hisob_B_Ijara!$C$84 -> 3637813.5 | H5: =Hisob_C_Gibrid!$C$19+Hisob_C_Gibrid!$C$16+Hisob_C_Gibrid!$C$18 -> 4759803 | I5: =Hisob_C_Gibrid!$C$52+Hisob_C_Gibrid!$C$49+Hisob_C_Gibrid!$C$51 -> 4011718.8 | J5: =Hisob_C_Gibrid!$C$85+Hisob_C_Gibrid!$C$82+Hisob_C_Gibrid!$C$84 -> 3435073.5
A6: Eng katta moliyalashtirish ehtiyoji, $ | B6: =MAX(0,-MIN(Hisob_A_Sotish!$D$37:$FP$37)) -> 1825772.5 | C6: =MAX(0,-MIN(Hisob_A_Sotish!$D$70:$FP$70)) -> 925056 | D6: =MAX(0,-MIN(Hisob_A_Sotish!$D$103:$FP$103)) -> 822544.9 | E6: =MAX(0,-MIN(Hisob_B_Ijara!$D$37:$FP$37)) -> 5250740 | F6: =MAX(0,-MIN(Hisob_B_Ijara!$D$70:$FP$70)) -> 4342207.2 | G6: =MAX(0,-MIN(Hisob_B_Ijara!$D$103:$FP$103)) -> 3671132 | H6: =MAX(0,-MIN(Hisob_C_Gibrid!$D$37:$FP$37)) -> 2455632.8 | I6: =MAX(0,-MIN(Hisob_C_Gibrid!$D$70:$FP$70)) -> 1030786.5 | J6: =MAX(0,-MIN(Hisob_C_Gibrid!$D$103:$FP$103)) -> 873563.19
A7: Sotuvdan tushum (QQSsiz), $ | B7: =Hisob_A_Sotish!$C$13 -> 3523223.9 | C7: =Hisob_A_Sotish!$C$46 -> 4156679.4 | D7: =Hisob_A_Sotish!$C$79 -> 4790726.6 | E7: =Hisob_B_Ijara!$C$13 -> 0 | F7: =Hisob_B_Ijara!$C$46 -> 0 | G7: =Hisob_B_Ijara!$C$79 -> 0 | H7: =Hisob_C_Gibrid!$C$13 -> 2856413.4 | I7: =Hisob_C_Gibrid!$C$46 -> 3362142.8 | J7: =Hisob_C_Gibrid!$C$79 -> 3839815.8
A8: Ijaradan NOI (butun davr), $ | B8: =Hisob_A_Sotish!$C$30 -> 0 | C8: =Hisob_A_Sotish!$C$63 -> 0 | D8: =Hisob_A_Sotish!$C$96 -> 0 | E8: =Hisob_B_Ijara!$C$30 -> 967902.96 | F8: =Hisob_B_Ijara!$C$63 -> 2813402.1 | G8: =Hisob_B_Ijara!$C$96 -> 5091363.6 | H8: =Hisob_C_Gibrid!$C$30 -> 112442.54 | I8: =Hisob_C_Gibrid!$C$63 -> 493898.71 | J8: =Hisob_C_Gibrid!$C$96 -> 942877.43
A9: Terminal qiymat (soliqdan keyin), $ | B9: =Hisob_A_Sotish!$C$35 -> 0 | C9: =Hisob_A_Sotish!$C$68 -> 0 | D9: =Hisob_A_Sotish!$C$101 -> 0 | E9: =Hisob_B_Ijara!$C$35 -> 3007862.1 | F9: =Hisob_B_Ijara!$C$68 -> 4968020.7 | G9: =Hisob_B_Ijara!$C$101 -> 8231726.4 | H9: =Hisob_C_Gibrid!$C$35 -> 565942.35 | I9: =Hisob_C_Gibrid!$C$68 -> 972289.04 | J9: =Hisob_C_Gibrid!$C$101 -> 1604844
A10: Foyda solig'i jami, $ | B10: =Hisob_A_Sotish!$C$15+Hisob_A_Sotish!$C$32 -> 0 | C10: =Hisob_A_Sotish!$C$48+Hisob_A_Sotish!$C$65 -> 9107.5235 | D10: =Hisob_A_Sotish!$C$81+Hisob_A_Sotish!$C$98 -> 185366.66 | E10: =Hisob_B_Ijara!$C$15+Hisob_B_Ijara!$C$32 -> 0 | F10: =Hisob_B_Ijara!$C$48+Hisob_B_Ijara!$C$65 -> 191548.87 | G10: =Hisob_B_Ijara!$C$81+Hisob_B_Ijara!$C$98 -> 562058.34 | H10: =Hisob_C_Gibrid!$C$15+Hisob_C_Gibrid!$C$32 -> 0 | I10: =Hisob_C_Gibrid!$C$48+Hisob_C_Gibrid!$C$65 -> 53015.248 | J10: =Hisob_C_Gibrid!$C$81+Hisob_C_Gibrid!$C$98 -> 260427.54
A11: Qurilish davridagi soliqlar, $ | B11: =Hisob_A_Sotish!$C$17 -> 41839.908 | C11: =Hisob_A_Sotish!$C$50 -> 10000 | D11: =Hisob_A_Sotish!$C$83 -> 7000 | E11: =Hisob_B_Ijara!$C$17 -> 41839.908 | F11: =Hisob_B_Ijara!$C$50 -> 10000 | G11: =Hisob_B_Ijara!$C$83 -> 7000 | H11: =Hisob_C_Gibrid!$C$17 -> 41839.908 | I11: =Hisob_C_Gibrid!$C$50 -> 10000 | J11: =Hisob_C_Gibrid!$C$83 -> 7000
A12: Sof foyda (barcha oqimlar yig'indisi), $ | B12: =Hisob_A_Sotish!$C$36 -> -1319531.9 | C12: =Hisob_A_Sotish!$C$69 -> 51609.3 | D12: =Hisob_A_Sotish!$C$102 -> 1050411.1 | E12: =Hisob_B_Ijara!$C$36 -> -1129987.9 | F12: =Hisob_B_Ijara!$C$69 -> 3304593.2 | G12: =Hisob_B_Ijara!$C$102 -> 9116218.1 | H12: =Hisob_C_Gibrid!$C$36 -> -1366819.1 | I12: =Hisob_C_Gibrid!$C$69 -> 635921.47 | J12: =Hisob_C_Gibrid!$C$102 -> 2550642.7
A13: NPV (diskont stavkasida), $ | B13: =Hisob_A_Sotish!$C$38 -> -1330171.4 | C13: =Hisob_A_Sotish!$C$71 -> -88568.369 | D13: =Hisob_A_Sotish!$C$104 -> 894919.84 | E13: =Hisob_B_Ijara!$C$38 -> -3501490.9 | F13: =Hisob_B_Ijara!$C$71 -> -1614508.3 | G13: =Hisob_B_Ijara!$C$104 -> 752876.12 | H13: =Hisob_C_Gibrid!$C$38 -> -1779493.6 | I13: =Hisob_C_Gibrid!$C$71 -> -415936.77 | J13: =Hisob_C_Gibrid!$C$104 -> 816263.94
A14: IRR, yillik (>100% — kapital deyarli kiritilmaydi) | B14: =IFERROR(IF((1+IRR(Hisob_A_Sotish!$D$36:$FP$36,0.01))^12-1>1,">100%",(1+IRR(Hisob_A_Sotish!$D$36:$FP$36,0.01))^12-1),"—") -> -0.54105503 | C14: =IFERROR(IF((1+IRR(Hisob_A_Sotish!$D$69:$FP$69,0.01))^12-1>1,">100%",(1+IRR(Hisob_A_Sotish!$D$69:$FP$69,0.01))^12-1),"—") -> 0.043382494 | D14: =IFERROR(IF((1+IRR(Hisob_A_Sotish!$D$102:$FP$102,0.01))^12-1>1,">100%",(1+IRR(Hisob_A_Sotish!$D$102:$FP$102,0.01))^12-1),"—") -> >100% | E14: =IFERROR(IF((1+IRR(Hisob_B_Ijara!$D$36:$FP$36,0.01))^12-1>1,">100%",(1+IRR(Hisob_B_Ijara!$D$36:$FP$36,0.01))^12-1),"—") -> -0.023752997 | F14: =IFERROR(IF((1+IRR(Hisob_B_Ijara!$D$69:$FP$69,0.01))^12-1>1,">100%",(1+IRR(Hisob_B_Ijara!$D$69:$FP$69,0.01))^12-1),"—") -> 0.063725247 | G14: =IFERROR(IF((1+IRR(Hisob_B_Ijara!$D$102:$FP$102,0.01))^12-1>1,">100%",(1+IRR(Hisob_B_Ijara!$D$102:$FP$102,0.01))^12-1),"—") -> 0.15861829 | H14: =IFERROR(IF((1+IRR(Hisob_C_Gibrid!$D$36:$FP$36,0.01))^12-1>1,">100%",(1+IRR(Hisob_C_Gibrid!$D$36:$FP$36,0.01))^12-1),"—") -> -0.091971084 | I14: =IFERROR(IF((1+IRR(Hisob_C_Gibrid!$D$69:$FP$69,0.01))^12-1>1,">100%",(1+IRR(Hisob_C_Gibrid!$D$69:$FP$69,0.01))^12-1),"—") -> 0.056549406 | J14: =IFERROR(IF((1+IRR(Hisob_C_Gibrid!$D$102:$FP$102,0.01))^12-1>1,">100%",(1+IRR(Hisob_C_Gibrid!$D$102:$FP$102,0.01))^12-1),"—") -> 0.46339656
A15: Kumulyativ oqim oxirgi marta manfiy bo'lgan oy | B15: =MAX(Hisob_A_Sotish!$D$39:$FP$39) -> 168 | C15: =MAX(Hisob_A_Sotish!$D$72:$FP$72) -> 22 | D15: =MAX(Hisob_A_Sotish!$D$105:$FP$105) -> 7 | E15: =MAX(Hisob_B_Ijara!$D$39:$FP$39) -> 168 | F15: =MAX(Hisob_B_Ijara!$D$72:$FP$72) -> 139 | G15: =MAX(Hisob_B_Ijara!$D$105:$FP$105) -> 115 | H15: =MAX(Hisob_C_Gibrid!$D$39:$FP$39) -> 168 | I15: =MAX(Hisob_C_Gibrid!$D$72:$FP$72) -> 139 | J15: =MAX(Hisob_C_Gibrid!$D$105:$FP$105) -> 14
A16: Qoplanish muddati, oy (hisob boshidan) | B16: =IF(Natijalar!$B$15<0,0,IF(Natijalar!$B$15>=168,"—",Natijalar!$B$15+(-INDEX(Hisob_A_Sotish!$D$37:$FP$37,1,Natijalar!$B$15+1))/INDEX(Hisob_A_Sotish!$D$36:$FP$36,1,Natijalar!$B$15+2))) -> — | C16: =IF(Natijalar!$C$15<0,0,IF(Natijalar!$C$15>=168,"—",Natijalar!$C$15+(-INDEX(Hisob_A_Sotish!$D$70:$FP$70,1,Natijalar!$C$15+1))/INDEX(Hisob_A_Sotish!$D$69:$FP$69,1,Natijalar!$C$15+2))) -> 22.575048 | D16: =IF(Natijalar!$D$15<0,0,IF(Natijalar!$D$15>=168,"—",Natijalar!$D$15+(-INDEX(Hisob_A_Sotish!$D$103:$FP$103,1,Natijalar!$D$15+1))/INDEX(Hisob_A_Sotish!$D$102:$FP$102,1,Natijalar!$D$15+2))) -> 7.4533828 | E16: =IF(Natijalar!$E$15<0,0,IF(Natijalar!$E$15>=168,"—",Natijalar!$E$15+(-INDEX(Hisob_B_Ijara!$D$37:$FP$37,1,Natijalar!$E$15+1))/INDEX(Hisob_B_Ijara!$D$36:$FP$36,1,Natijalar!$E$15+2))) -> — | F16: =IF(Natijalar!$F$15<0,0,IF(Natijalar!$F$15>=168,"—",Natijalar!$F$15+(-INDEX(Hisob_B_Ijara!$D$70:$FP$70,1,Natijalar!$F$15+1))/INDEX(Hisob_B_Ijara!$D$69:$FP$69,1,Natijalar!$F$15+2))) -> 139.33843 | G16: =IF(Natijalar!$G$15<0,0,IF(Natijalar!$G$15>=168,"—",Natijalar!$G$15+(-INDEX(Hisob_B_Ijara!$D$103:$FP$103,1,Natijalar!$G$15+1))/INDEX(Hisob_B_Ijara!$D$102:$FP$102,1,Natijalar!$G$15+2))) -> 115.19776 | H16: =IF(Natijalar!$H$15<0,0,IF(Natijalar!$H$15>=168,"—",Natijalar!$H$15+(-INDEX(Hisob_C_Gibrid!$D$37:$FP$37,1,Natijalar!$H$15+1))/INDEX(Hisob_C_Gibrid!$D$36:$FP$36,1,Natijalar!$H$15+2))) -> — | I16: =IF(Natijalar!$I$15<0,0,IF(Natijalar!$I$15>=168,"—",Natijalar!$I$15+(-INDEX(Hisob_C_Gibrid!$D$70:$FP$70,1,Natijalar!$I$15+1))/INDEX(Hisob_C_Gibrid!$D$69:$FP$69,1,Natijalar!$I$15+2))) -> 139.34926 | J16: =IF(Natijalar!$J$15<0,0,IF(Natijalar!$J$15>=168,"—",Natijalar!$J$15+(-INDEX(Hisob_C_Gibrid!$D$103:$FP$103,1,Natijalar!$J$15+1))/INDEX(Hisob_C_Gibrid!$D$102:$FP$102,1,Natijalar!$J$15+2))) -> 14.330065
A17: Qoplanish muddati, yil (hisob boshidan) | B17: =IF(ISNUMBER(Natijalar!$B$16),Natijalar!$B$16/12,"—") -> — | C17: =IF(ISNUMBER(Natijalar!$C$16),Natijalar!$C$16/12,"—") -> 1.881254 | D17: =IF(ISNUMBER(Natijalar!$D$16),Natijalar!$D$16/12,"—") -> 0.62111524 | E17: =IF(ISNUMBER(Natijalar!$E$16),Natijalar!$E$16/12,"—") -> — | F17: =IF(ISNUMBER(Natijalar!$F$16),Natijalar!$F$16/12,"—") -> 11.611536 | G17: =IF(ISNUMBER(Natijalar!$G$16),Natijalar!$G$16/12,"—") -> 9.599813 | H17: =IF(ISNUMBER(Natijalar!$H$16),Natijalar!$H$16/12,"—") -> — | I17: =IF(ISNUMBER(Natijalar!$I$16),Natijalar!$I$16/12,"—") -> 11.612438 | J17: =IF(ISNUMBER(Natijalar!$J$16),Natijalar!$J$16/12,"—") -> 1.1941721
A18: Qoplanish muddati, yil (foydalanishga topshirilgandan) | B18: =IF(ISNUMBER(Natijalar!$B$16),MAX(0,Natijalar!$B$16-Parametrlar!$B$4)/12,"—") -> — | C18: =IF(ISNUMBER(Natijalar!$C$16),MAX(0,Natijalar!$C$16-Parametrlar!$C$4)/12,"—") -> 0.2145873 | D18: =IF(ISNUMBER(Natijalar!$D$16),MAX(0,Natijalar!$D$16-Parametrlar!$D$4)/12,"—") -> 0 | E18: =IF(ISNUMBER(Natijalar!$E$16),MAX(0,Natijalar!$E$16-Parametrlar!$E$4)/12,"—") -> — | F18: =IF(ISNUMBER(Natijalar!$F$16),MAX(0,Natijalar!$F$16-Parametrlar!$F$4)/12,"—") -> 9.9448693 | G18: =IF(ISNUMBER(Natijalar!$G$16),MAX(0,Natijalar!$G$16-Parametrlar!$G$4)/12,"—") -> 8.4331463 | H18: =IF(ISNUMBER(Natijalar!$H$16),MAX(0,Natijalar!$H$16-Parametrlar!$H$4)/12,"—") -> — | I18: =IF(ISNUMBER(Natijalar!$I$16),MAX(0,Natijalar!$I$16-Parametrlar!$I$4)/12,"—") -> 9.9457717 | J18: =IF(ISNUMBER(Natijalar!$J$16),MAX(0,Natijalar!$J$16-Parametrlar!$J$4)/12,"—") -> 0.027505429
A19: Barqaror yil NOI, $ | B19: =SUMIFS(Hisob_A_Sotish!$D$30:$FP$30,Hisob_A_Sotish!$D$4:$FP$4,">="&(Parametrlar!$B$4+Kirish!$B$51+2),Hisob_A_Sotish!$D$4:$FP$4,"<="&(Parametrlar!$B$4+Kirish!$B$51+13)) -> 0 | C19: =SUMIFS(Hisob_A_Sotish!$D$63:$FP$63,Hisob_A_Sotish!$D$4:$FP$4,">="&(Parametrlar!$C$4+Kirish!$C$51+2),Hisob_A_Sotish!$D$4:$FP$4,"<="&(Parametrlar!$C$4+Kirish!$C$51+13)) -> 0 | D19: =SUMIFS(Hisob_A_Sotish!$D$96:$FP$96,Hisob_A_Sotish!$D$4:$FP$4,">="&(Parametrlar!$D$4+Kirish!$D$51+2),Hisob_A_Sotish!$D$4:$FP$4,"<="&(Parametrlar!$D$4+Kirish!$D$51+13)) -> 0 | E19: =SUMIFS(Hisob_B_Ijara!$D$30:$FP$30,Hisob_B_Ijara!$D$4:$FP$4,">="&(Parametrlar!$E$4+Kirish!$B$51+2),Hisob_B_Ijara!$D$4:$FP$4,"<="&(Parametrlar!$E$4+Kirish!$B$51+13)) -> 135974.39 | F19: =SUMIFS(Hisob_B_Ijara!$D$63:$FP$63,Hisob_B_Ijara!$D$4:$FP$4,">="&(Parametrlar!$F$4+Kirish!$C$51+2),Hisob_B_Ijara!$D$4:$FP$4,"<="&(Parametrlar!$F$4+Kirish!$C$51+13)) -> 290889.77 | G19: =SUMIFS(Hisob_B_Ijara!$D$96:$FP$96,Hisob_B_Ijara!$D$4:$FP$4,">="&(Parametrlar!$G$4+Kirish!$D$51+2),Hisob_B_Ijara!$D$4:$FP$4,"<="&(Parametrlar!$G$4+Kirish!$D$51+13)) -> 452598.53 | H19: =SUMIFS(Hisob_C_Gibrid!$D$30:$FP$30,Hisob_C_Gibrid!$D$4:$FP$4,">="&(Parametrlar!$H$4+Kirish!$B$51+2),Hisob_C_Gibrid!$D$4:$FP$4,"<="&(Parametrlar!$H$4+Kirish!$B$51+13)) -> 18581.71 | I19: =SUMIFS(Hisob_C_Gibrid!$D$63:$FP$63,Hisob_C_Gibrid!$D$4:$FP$4,">="&(Parametrlar!$I$4+Kirish!$C$51+2),Hisob_C_Gibrid!$D$4:$FP$4,"<="&(Parametrlar!$I$4+Kirish!$C$51+13)) -> 51343.564 | J19: =SUMIFS(Hisob_C_Gibrid!$D$96:$FP$96,Hisob_C_Gibrid!$D$4:$FP$4,">="&(Parametrlar!$J$4+Kirish!$D$51+2),Hisob_C_Gibrid!$D$4:$FP$4,"<="&(Parametrlar!$J$4+Kirish!$D$51+13)) -> 83588.176
A20: Yield on cost (barqaror NOI / ijaradagi qism qiymati) | B20: =IF(Parametrlar!$B$23>0,Natijalar!$B$19/Parametrlar!$B$23,0) -> 0 | C20: =IF(Parametrlar!$C$23>0,Natijalar!$C$19/Parametrlar!$C$23,0) -> 0 | D20: =IF(Parametrlar!$D$23>0,Natijalar!$D$19/Parametrlar!$D$23,0) -> 0 | E20: =IF(Parametrlar!$E$23>0,Natijalar!$E$19/Parametrlar!$E$23,0) -> 0.026631603 | F20: =IF(Parametrlar!$F$23>0,Natijalar!$F$19/Parametrlar!$F$23,0) -> 0.067881146 | G20: =IF(Parametrlar!$G$23>0,Natijalar!$G$19/Parametrlar!$G$23,0) -> 0.12417605 | H20: =IF(Parametrlar!$H$23>0,Natijalar!$H$19/Parametrlar!$H$23,0) -> 0.015872114 | I20: =IF(Parametrlar!$I$23>0,Natijalar!$I$19/Parametrlar!$I$23,0) -> 0.05226357 | J20: =IF(Parametrlar!$J$23>0,Natijalar!$J$19/Parametrlar!$J$23,0) -> 0.099979097
A21: Kapital multiplikatori (qaytgan / kiritilgan) | B21: =IF(Natijalar!$B$5>0,(Natijalar!$B$12+Natijalar!$B$5)/Natijalar!$B$5,0) -> 0.71790426 | C21: =IF(Natijalar!$C$5>0,(Natijalar!$C$12+Natijalar!$C$5)/Natijalar!$C$5,0) -> 1.0130972 | D21: =IF(Natijalar!$D$5>0,(Natijalar!$D$12+Natijalar!$D$5)/Natijalar!$D$5,0) -> 1.3107474 | E21: =IF(Natijalar!$E$5>0,(Natijalar!$E$12+Natijalar!$E$5)/Natijalar!$E$5,0) -> 0.7768548 | F21: =IF(Natijalar!$F$5>0,(Natijalar!$F$12+Natijalar!$F$5)/Natijalar!$F$5,0) -> 1.7729535 | G21: =IF(Natijalar!$G$5>0,(Natijalar!$G$12+Natijalar!$G$5)/Natijalar!$G$5,0) -> 3.5059608 | H21: =IF(Natijalar!$H$5>0,(Natijalar!$H$12+Natijalar!$H$5)/Natijalar!$H$5,0) -> 0.71284125 | I21: =IF(Natijalar!$I$5>0,(Natijalar!$I$12+Natijalar!$I$5)/Natijalar!$I$5,0) -> 1.158516 | J21: =IF(Natijalar!$J$5>0,(Natijalar!$J$12+Natijalar!$J$5)/Natijalar!$J$5,0) -> 1.7425293
A22: Sotuv marjasi (tannarxdan keyin) | B22: =Parametrlar!$B$26 -> -0.374524 | C22: =Parametrlar!$C$26 -> 0.01460705 | D22: =Parametrlar!$D$26 -> 0.25795204 | E22: =Parametrlar!$E$26 -> 0 | F22: =Parametrlar!$F$26 -> 0 | G22: =Parametrlar!$G$26 -> 0 | H22: =Parametrlar!$H$26 -> -0.30614956 | I22: =Parametrlar!$I$26 -> 0.061016379 | J22: =Parametrlar!$J$26 -> 0.2863172
A25: Yillik pul oqimi — tanlangan ssenariy: | C25: 2 | D25: ← 1 = Konservativ, 2 = Bazaviy, 3 = Optimistik
A26: Yil | B26: A · sof oqim | C26: A · kumulyativ | D26: B · sof oqim | E26: B · kumulyativ | F26: C · sof oqim | G26: C · kumulyativ
A27: 2026 | B27: =CHOOSE(Natijalar!$C$25,SUMIF(Hisob_A_Sotish!$D$6:$FP$6,2026,Hisob_A_Sotish!$D$36:$FP$36),SUMIF(Hisob_A_Sotish!$D$6:$FP$6,2026,Hisob_A_Sotish!$D$69:$FP$69),SUMIF(Hisob_A_Sotish!$D$6:$FP$6,2026,Hisob_A_Sotish!$D$102:$FP$102)) -> -907947.34 | C27: =B27 -> -907947.34 | D27: =CHOOSE(Natijalar!$C$25,SUMIF(Hisob_B_Ijara!$D$6:$FP$6,2026,Hisob_B_Ijara!$D$36:$FP$36),SUMIF(Hisob_B_Ijara!$D$6:$FP$6,2026,Hisob_B_Ijara!$D$69:$FP$69),SUMIF(Hisob_B_Ijara!$D$6:$FP$6,2026,Hisob_B_Ijara!$D$102:$FP$102)) -> -1110404.2 | E27: =D27 -> -1110404.2 | F27: =CHOOSE(Natijalar!$C$25,SUMIF(Hisob_C_Gibrid!$D$6:$FP$6,2026,Hisob_C_Gibrid!$D$36:$FP$36),SUMIF(Hisob_C_Gibrid!$D$6:$FP$6,2026,Hisob_C_Gibrid!$D$69:$FP$69),SUMIF(Hisob_C_Gibrid!$D$6:$FP$6,2026,Hisob_C_Gibrid!$D$102:$FP$102)) -> -947864.86 | G27: =F27 -> -947864.86
A28: 2027 | B28: =CHOOSE(Natijalar!$C$25,SUMIF(Hisob_A_Sotish!$D$6:$FP$6,2027,Hisob_A_Sotish!$D$36:$FP$36),SUMIF(Hisob_A_Sotish!$D$6:$FP$6,2027,Hisob_A_Sotish!$D$69:$FP$69),SUMIF(Hisob_A_Sotish!$D$6:$FP$6,2027,Hisob_A_Sotish!$D$102:$FP$102)) -> 381319.92 | C28: =C27+B28 -> -526627.42 | D28: =CHOOSE(Natijalar!$C$25,SUMIF(Hisob_B_Ijara!$D$6:$FP$6,2027,Hisob_B_Ijara!$D$36:$FP$36),SUMIF(Hisob_B_Ijara!$D$6:$FP$6,2027,Hisob_B_Ijara!$D$69:$FP$69),SUMIF(Hisob_B_Ijara!$D$6:$FP$6,2027,Hisob_B_Ijara!$D$102:$FP$102)) -> -1884024 | E28: =E27+D28 -> -2994428.2 | F28: =CHOOSE(Natijalar!$C$25,SUMIF(Hisob_C_Gibrid!$D$6:$FP$6,2027,Hisob_C_Gibrid!$D$36:$FP$36),SUMIF(Hisob_C_Gibrid!$D$6:$FP$6,2027,Hisob_C_Gibrid!$D$69:$FP$69),SUMIF(Hisob_C_Gibrid!$D$6:$FP$6,2027,Hisob_C_Gibrid!$D$102:$FP$102)) -> -64961.773 | G28: =G27+F28 -> -1012826.6
A29: 2028 | B29: =CHOOSE(Natijalar!$C$25,SUMIF(Hisob_A_Sotish!$D$6:$FP$6,2028,Hisob_A_Sotish!$D$36:$FP$36),SUMIF(Hisob_A_Sotish!$D$6:$FP$6,2028,Hisob_A_Sotish!$D$69:$FP$69),SUMIF(Hisob_A_Sotish!$D$6:$FP$6,2028,Hisob_A_Sotish!$D$102:$FP$102)) -> 578236.72 | C29: =C28+B29 -> 51609.3 | D29: =CHOOSE(Natijalar!$C$25,SUMIF(Hisob_B_Ijara!$D$6:$FP$6,2028,Hisob_B_Ijara!$D$36:$FP$36),SUMIF(Hisob_B_Ijara!$D$6:$FP$6,2028,Hisob_B_Ijara!$D$69:$FP$69),SUMIF(Hisob_B_Ijara!$D$6:$FP$6,2028,Hisob_B_Ijara!$D$102:$FP$102)) -> -1347779 | E29: =E28+D29 -> -4342207.2 | F29: =CHOOSE(Natijalar!$C$25,SUMIF(Hisob_C_Gibrid!$D$6:$FP$6,2028,Hisob_C_Gibrid!$D$36:$FP$36),SUMIF(Hisob_C_Gibrid!$D$6:$FP$6,2028,Hisob_C_Gibrid!$D$69:$FP$69),SUMIF(Hisob_C_Gibrid!$D$6:$FP$6,2028,Hisob_C_Gibrid!$D$102:$FP$102)) -> 191531.06 | G29: =G28+F29 -> -821295.58
A30: 2029 | B30: =CHOOSE(Natijalar!$C$25,SUMIF(Hisob_A_Sotish!$D$6:$FP$6,2029,Hisob_A_Sotish!$D$36:$FP$36),SUMIF(Hisob_A_Sotish!$D$6:$FP$6,2029,Hisob_A_Sotish!$D$69:$FP$69),SUMIF(Hisob_A_Sotish!$D$6:$FP$6,2029,Hisob_A_Sotish!$D$102:$FP$102)) -> 0 | C30: =C29+B30 -> 51609.3 | D30: =CHOOSE(Natijalar!$C$25,SUMIF(Hisob_B_Ijara!$D$6:$FP$6,2029,Hisob_B_Ijara!$D$36:$FP$36),SUMIF(Hisob_B_Ijara!$D$6:$FP$6,2029,Hisob_B_Ijara!$D$69:$FP$69),SUMIF(Hisob_B_Ijara!$D$6:$FP$6,2029,Hisob_B_Ijara!$D$102:$FP$102)) -> 137650.12 | E30: =E29+D30 -> -4204557.1 | F30: =CHOOSE(Natijalar!$C$25,SUMIF(Hisob_C_Gibrid!$D$6:$FP$6,2029,Hisob_C_Gibrid!$D$36:$FP$36),SUMIF(Hisob_C_Gibrid!$D$6:$FP$6,2029,Hisob_C_Gibrid!$D$69:$FP$69),SUMIF(Hisob_C_Gibrid!$D$6:$FP$6,2029,Hisob_C_Gibrid!$D$102:$FP$102)) -> 22336.169 | G30: =G29+F30 -> -798959.41
A31: 2030 | B31: =CHOOSE(Natijalar!$C$25,SUMIF(Hisob_A_Sotish!$D$6:$FP$6,2030,Hisob_A_Sotish!$D$36:$FP$36),SUMIF(Hisob_A_Sotish!$D$6:$FP$6,2030,Hisob_A_Sotish!$D$69:$FP$69),SUMIF(Hisob_A_Sotish!$D$6:$FP$6,2030,Hisob_A_Sotish!$D$102:$FP$102)) -> 0 | C31: =C30+B31 -> 51609.3 | D31: =CHOOSE(Natijalar!$C$25,SUMIF(Hisob_B_Ijara!$D$6:$FP$6,2030,Hisob_B_Ijara!$D$36:$FP$36),SUMIF(Hisob_B_Ijara!$D$6:$FP$6,2030,Hisob_B_Ijara!$D$69:$FP$69),SUMIF(Hisob_B_Ijara!$D$6:$FP$6,2030,Hisob_B_Ijara!$D$102:$FP$102)) -> 274361.57 | E31: =E30+D31 -> -3930195.5 | F31: =CHOOSE(Natijalar!$C$25,SUMIF(Hisob_C_Gibrid!$D$6:$FP$6,2030,Hisob_C_Gibrid!$D$36:$FP$36),SUMIF(Hisob_C_Gibrid!$D$6:$FP$6,2030,Hisob_C_Gibrid!$D$69:$FP$69),SUMIF(Hisob_C_Gibrid!$D$6:$FP$6,2030,Hisob_C_Gibrid!$D$102:$FP$102)) -> 49804.25 | G31: =G30+F31 -> -749155.16
A32: 2031 | B32: =CHOOSE(Natijalar!$C$25,SUMIF(Hisob_A_Sotish!$D$6:$FP$6,2031,Hisob_A_Sotish!$D$36:$FP$36),SUMIF(Hisob_A_Sotish!$D$6:$FP$6,2031,Hisob_A_Sotish!$D$69:$FP$69),SUMIF(Hisob_A_Sotish!$D$6:$FP$6,2031,Hisob_A_Sotish!$D$102:$FP$102)) -> 0 | C32: =C31+B32 -> 51609.3 | D32: =CHOOSE(Natijalar!$C$25,SUMIF(Hisob_B_Ijara!$D$6:$FP$6,2031,Hisob_B_Ijara!$D$36:$FP$36),SUMIF(Hisob_B_Ijara!$D$6:$FP$6,2031,Hisob_B_Ijara!$D$69:$FP$69),SUMIF(Hisob_B_Ijara!$D$6:$FP$6,2031,Hisob_B_Ijara!$D$102:$FP$102)) -> 280667.95 | E32: =E31+D32 -> -3649527.6 | F32: =CHOOSE(Natijalar!$C$25,SUMIF(Hisob_C_Gibrid!$D$6:$FP$6,2031,Hisob_C_Gibrid!$D$36:$FP$36),SUMIF(Hisob_C_Gibrid!$D$6:$FP$6,2031,Hisob_C_Gibrid!$D$69:$FP$69),SUMIF(Hisob_C_Gibrid!$D$6:$FP$6,2031,Hisob_C_Gibrid!$D$102:$FP$102)) -> 50988.437 | G32: =G31+F32 -> -698166.73
A33: 2032 | B33: =CHOOSE(Natijalar!$C$25,SUMIF(Hisob_A_Sotish!$D$6:$FP$6,2032,Hisob_A_Sotish!$D$36:$FP$36),SUMIF(Hisob_A_Sotish!$D$6:$FP$6,2032,Hisob_A_Sotish!$D$69:$FP$69),SUMIF(Hisob_A_Sotish!$D$6:$FP$6,2032,Hisob_A_Sotish!$D$102:$FP$102)) -> 0 | C33: =C32+B33 -> 51609.3 | D33: =CHOOSE(Natijalar!$C$25,SUMIF(Hisob_B_Ijara!$D$6:$FP$6,2032,Hisob_B_Ijara!$D$36:$FP$36),SUMIF(Hisob_B_Ijara!$D$6:$FP$6,2032,Hisob_B_Ijara!$D$69:$FP$69),SUMIF(Hisob_B_Ijara!$D$6:$FP$6,2032,Hisob_B_Ijara!$D$102:$FP$102)) -> 287100.47 | E33: =E32+D33 -> -3362427.1 | F33: =CHOOSE(Natijalar!$C$25,SUMIF(Hisob_C_Gibrid!$D$6:$FP$6,2032,Hisob_C_Gibrid!$D$36:$FP$36),SUMIF(Hisob_C_Gibrid!$D$6:$FP$6,2032,Hisob_C_Gibrid!$D$69:$FP$69),SUMIF(Hisob_C_Gibrid!$D$6:$FP$6,2032,Hisob_C_Gibrid!$D$102:$FP$102)) -> 52196.308 | G33: =G32+F33 -> -645970.42
A34: 2033 | B34: =CHOOSE(Natijalar!$C$25,SUMIF(Hisob_A_Sotish!$D$6:$FP$6,2033,Hisob_A_Sotish!$D$36:$FP$36),SUMIF(Hisob_A_Sotish!$D$6:$FP$6,2033,Hisob_A_Sotish!$D$69:$FP$69),SUMIF(Hisob_A_Sotish!$D$6:$FP$6,2033,Hisob_A_Sotish!$D$102:$FP$102)) -> 0 | C34: =C33+B34 -> 51609.3 | D34: =CHOOSE(Natijalar!$C$25,SUMIF(Hisob_B_Ijara!$D$6:$FP$6,2033,Hisob_B_Ijara!$D$36:$FP$36),SUMIF(Hisob_B_Ijara!$D$6:$FP$6,2033,Hisob_B_Ijara!$D$69:$FP$69),SUMIF(Hisob_B_Ijara!$D$6:$FP$6,2033,Hisob_B_Ijara!$D$102:$FP$102)) -> 293661.63 | E34: =E33+D34 -> -3068765.5 | F34: =CHOOSE(Natijalar!$C$25,SUMIF(Hisob_C_Gibrid!$D$6:$FP$6,2033,Hisob_C_Gibrid!$D$36:$FP$36),SUMIF(Hisob_C_Gibrid!$D$6:$FP$6,2033,Hisob_C_Gibrid!$D$69:$FP$69),SUMIF(Hisob_C_Gibrid!$D$6:$FP$6,2033,Hisob_C_Gibrid!$D$102:$FP$102)) -> 53428.336 | G34: =G33+F34 -> -592542.08
A35: 2034 | B35: =CHOOSE(Natijalar!$C$25,SUMIF(Hisob_A_Sotish!$D$6:$FP$6,2034,Hisob_A_Sotish!$D$36:$FP$36),SUMIF(Hisob_A_Sotish!$D$6:$FP$6,2034,Hisob_A_Sotish!$D$69:$FP$69),SUMIF(Hisob_A_Sotish!$D$6:$FP$6,2034,Hisob_A_Sotish!$D$102:$FP$102)) -> 0 | C35: =C34+B35 -> 51609.3 | D35: =CHOOSE(Natijalar!$C$25,SUMIF(Hisob_B_Ijara!$D$6:$FP$6,2034,Hisob_B_Ijara!$D$36:$FP$36),SUMIF(Hisob_B_Ijara!$D$6:$FP$6,2034,Hisob_B_Ijara!$D$69:$FP$69),SUMIF(Hisob_B_Ijara!$D$6:$FP$6,2034,Hisob_B_Ijara!$D$102:$FP$102)) -> 300354.02 | E35: =E34+D35 -> -2768411.4 | F35: =CHOOSE(Natijalar!$C$25,SUMIF(Hisob_C_Gibrid!$D$6:$FP$6,2034,Hisob_C_Gibrid!$D$36:$FP$36),SUMIF(Hisob_C_Gibrid!$D$6:$FP$6,2034,Hisob_C_Gibrid!$D$69:$FP$69),SUMIF(Hisob_C_Gibrid!$D$6:$FP$6,2034,Hisob_C_Gibrid!$D$102:$FP$102)) -> 54685.005 | G35: =G34+F35 -> -537857.08
A36: 2035 | B36: =CHOOSE(Natijalar!$C$25,SUMIF(Hisob_A_Sotish!$D$6:$FP$6,2035,Hisob_A_Sotish!$D$36:$FP$36),SUMIF(Hisob_A_Sotish!$D$6:$FP$6,2035,Hisob_A_Sotish!$D$69:$FP$69),SUMIF(Hisob_A_Sotish!$D$6:$FP$6,2035,Hisob_A_Sotish!$D$102:$FP$102)) -> 0 | C36: =C35+B36 -> 51609.3 | D36: =CHOOSE(Natijalar!$C$25,SUMIF(Hisob_B_Ijara!$D$6:$FP$6,2035,Hisob_B_Ijara!$D$36:$FP$36),SUMIF(Hisob_B_Ijara!$D$6:$FP$6,2035,Hisob_B_Ijara!$D$69:$FP$69),SUMIF(Hisob_B_Ijara!$D$6:$FP$6,2035,Hisob_B_Ijara!$D$102:$FP$102)) -> 307180.25 | E36: =E35+D36 -> -2461231.2 | F36: =CHOOSE(Natijalar!$C$25,SUMIF(Hisob_C_Gibrid!$D$6:$FP$6,2035,Hisob_C_Gibrid!$D$36:$FP$36),SUMIF(Hisob_C_Gibrid!$D$6:$FP$6,2035,Hisob_C_Gibrid!$D$69:$FP$69),SUMIF(Hisob_C_Gibrid!$D$6:$FP$6,2035,Hisob_C_Gibrid!$D$102:$FP$102)) -> 55966.808 | G36: =G35+F36 -> -481890.27
A37: 2036 | B37: =CHOOSE(Natijalar!$C$25,SUMIF(Hisob_A_Sotish!$D$6:$FP$6,2036,Hisob_A_Sotish!$D$36:$FP$36),SUMIF(Hisob_A_Sotish!$D$6:$FP$6,2036,Hisob_A_Sotish!$D$69:$FP$69),SUMIF(Hisob_A_Sotish!$D$6:$FP$6,2036,Hisob_A_Sotish!$D$102:$FP$102)) -> 0 | C37: =C36+B37 -> 51609.3 | D37: =CHOOSE(Natijalar!$C$25,SUMIF(Hisob_B_Ijara!$D$6:$FP$6,2036,Hisob_B_Ijara!$D$36:$FP$36),SUMIF(Hisob_B_Ijara!$D$6:$FP$6,2036,Hisob_B_Ijara!$D$69:$FP$69),SUMIF(Hisob_B_Ijara!$D$6:$FP$6,2036,Hisob_B_Ijara!$D$102:$FP$102)) -> 314143.01 | E37: =E36+D37 -> -2147088.2 | F37: =CHOOSE(Natijalar!$C$25,SUMIF(Hisob_C_Gibrid!$D$6:$FP$6,2036,Hisob_C_Gibrid!$D$36:$FP$36),SUMIF(Hisob_C_Gibrid!$D$6:$FP$6,2036,Hisob_C_Gibrid!$D$69:$FP$69),SUMIF(Hisob_C_Gibrid!$D$6:$FP$6,2036,Hisob_C_Gibrid!$D$102:$FP$102)) -> 57274.246 | G37: =G36+F37 -> -424616.02
A38: 2037 | B38: =CHOOSE(Natijalar!$C$25,SUMIF(Hisob_A_Sotish!$D$6:$FP$6,2037,Hisob_A_Sotish!$D$36:$FP$36),SUMIF(Hisob_A_Sotish!$D$6:$FP$6,2037,Hisob_A_Sotish!$D$69:$FP$69),SUMIF(Hisob_A_Sotish!$D$6:$FP$6,2037,Hisob_A_Sotish!$D$102:$FP$102)) -> 0 | C38: =C37+B38 -> 51609.3 | D38: =CHOOSE(Natijalar!$C$25,SUMIF(Hisob_B_Ijara!$D$6:$FP$6,2037,Hisob_B_Ijara!$D$36:$FP$36),SUMIF(Hisob_B_Ijara!$D$6:$FP$6,2037,Hisob_B_Ijara!$D$69:$FP$69),SUMIF(Hisob_B_Ijara!$D$6:$FP$6,2037,Hisob_B_Ijara!$D$102:$FP$102)) -> 321245.02 | E38: =E37+D38 -> -1825843.2 | F38: =CHOOSE(Natijalar!$C$25,SUMIF(Hisob_C_Gibrid!$D$6:$FP$6,2037,Hisob_C_Gibrid!$D$36:$FP$36),SUMIF(Hisob_C_Gibrid!$D$6:$FP$6,2037,Hisob_C_Gibrid!$D$69:$FP$69),SUMIF(Hisob_C_Gibrid!$D$6:$FP$6,2037,Hisob_C_Gibrid!$D$102:$FP$102)) -> 58607.833 | G38: =G37+F38 -> -366008.19
A39: 2038 | B39: =CHOOSE(Natijalar!$C$25,SUMIF(Hisob_A_Sotish!$D$6:$FP$6,2038,Hisob_A_Sotish!$D$36:$FP$36),SUMIF(Hisob_A_Sotish!$D$6:$FP$6,2038,Hisob_A_Sotish!$D$69:$FP$69),SUMIF(Hisob_A_Sotish!$D$6:$FP$6,2038,Hisob_A_Sotish!$D$102:$FP$102)) -> 0 | C39: =C38+B39 -> 51609.3 | D39: =CHOOSE(Natijalar!$C$25,SUMIF(Hisob_B_Ijara!$D$6:$FP$6,2038,Hisob_B_Ijara!$D$36:$FP$36),SUMIF(Hisob_B_Ijara!$D$6:$FP$6,2038,Hisob_B_Ijara!$D$69:$FP$69),SUMIF(Hisob_B_Ijara!$D$6:$FP$6,2038,Hisob_B_Ijara!$D$102:$FP$102)) -> 5130436.3 | E39: =E38+D39 -> 3304593.2 | F39: =CHOOSE(Natijalar!$C$25,SUMIF(Hisob_C_Gibrid!$D$6:$FP$6,2038,Hisob_C_Gibrid!$D$36:$FP$36),SUMIF(Hisob_C_Gibrid!$D$6:$FP$6,2038,Hisob_C_Gibrid!$D$69:$FP$69),SUMIF(Hisob_C_Gibrid!$D$6:$FP$6,2038,Hisob_C_Gibrid!$D$102:$FP$102)) -> 1001929.7 | G39: =G38+F39 -> 635921.47
A40: 2039 | B40: =CHOOSE(Natijalar!$C$25,SUMIF(Hisob_A_Sotish!$D$6:$FP$6,2039,Hisob_A_Sotish!$D$36:$FP$36),SUMIF(Hisob_A_Sotish!$D$6:$FP$6,2039,Hisob_A_Sotish!$D$69:$FP$69),SUMIF(Hisob_A_Sotish!$D$6:$FP$6,2039,Hisob_A_Sotish!$D$102:$FP$102)) -> 0 | C40: =C39+B40 -> 51609.3 | D40: =CHOOSE(Natijalar!$C$25,SUMIF(Hisob_B_Ijara!$D$6:$FP$6,2039,Hisob_B_Ijara!$D$36:$FP$36),SUMIF(Hisob_B_Ijara!$D$6:$FP$6,2039,Hisob_B_Ijara!$D$69:$FP$69),SUMIF(Hisob_B_Ijara!$D$6:$FP$6,2039,Hisob_B_Ijara!$D$102:$FP$102)) -> 0 | E40: =E39+D40 -> 3304593.2 | F40: =CHOOSE(Natijalar!$C$25,SUMIF(Hisob_C_Gibrid!$D$6:$FP$6,2039,Hisob_C_Gibrid!$D$36:$FP$36),SUMIF(Hisob_C_Gibrid!$D$6:$FP$6,2039,Hisob_C_Gibrid!$D$69:$FP$69),SUMIF(Hisob_C_Gibrid!$D$6:$FP$6,2039,Hisob_C_Gibrid!$D$102:$FP$102)) -> 0 | G40: =G39+F40 -> 635921.47
A41: 2040 | B41: =CHOOSE(Natijalar!$C$25,SUMIF(Hisob_A_Sotish!$D$6:$FP$6,2040,Hisob_A_Sotish!$D$36:$FP$36),SUMIF(Hisob_A_Sotish!$D$6:$FP$6,2040,Hisob_A_Sotish!$D$69:$FP$69),SUMIF(Hisob_A_Sotish!$D$6:$FP$6,2040,Hisob_A_Sotish!$D$102:$FP$102)) -> 0 | C41: =C40+B41 -> 51609.3 | D41: =CHOOSE(Natijalar!$C$25,SUMIF(Hisob_B_Ijara!$D$6:$FP$6,2040,Hisob_B_Ijara!$D$36:$FP$36),SUMIF(Hisob_B_Ijara!$D$6:$FP$6,2040,Hisob_B_Ijara!$D$69:$FP$69),SUMIF(Hisob_B_Ijara!$D$6:$FP$6,2040,Hisob_B_Ijara!$D$102:$FP$102)) -> 0 | E41: =E40+D41 -> 3304593.2 | F41: =CHOOSE(Natijalar!$C$25,SUMIF(Hisob_C_Gibrid!$D$6:$FP$6,2040,Hisob_C_Gibrid!$D$36:$FP$36),SUMIF(Hisob_C_Gibrid!$D$6:$FP$6,2040,Hisob_C_Gibrid!$D$69:$FP$69),SUMIF(Hisob_C_Gibrid!$D$6:$FP$6,2040,Hisob_C_Gibrid!$D$102:$FP$102)) -> 0 | G41: =G40+F41 -> 635921.47

Sheet Kirish
A1: Botanica BC — kirish ma'lumotlari (barcha taxminlar shu yerda)
A2: Ko'k shrift = qo'lda kiritiladigan qiymat · sariq fon = asosiy taxmin (buyurtmachi/rieltor tasdiqlashi kerak) · qora = formula · yashil = boshqa varaqdan havola. Barcha summalar USD, QQSsiz (agar boshqacha ko'rsatilmagan bo'lsa).
A4: A. Umumiy kirishlar
A5: Parametr | B5: Qiymat | E5: Birlik | F5: Manba / izoh
A6: Hisob boshlanish yili | B6: 2026 | E6: yil | F6: Hisob davri: qurilish + 10 yil ekspluatatsiya. 0-oy = 2026-yil oktabr.
A7: Hisob boshlanish oyi | B7: 10 | E7: oy
A8: Ijara strategiyasida ushlab turish muddati | B8: 10 | E8: yil | F8: Muddat oxirida obyekt kapitalizatsiya stavkasi bo'yicha sotiladi deb olinadi (terminal qiymat).
A9: Loyihalash, ruxsatnomalar, texnik nazorat | B9: 0.09 | E9: % qurilishdan | F9: TAXMIN: loyihalash va mualliflik nazorati 4–6% + ekspertiza, texnik nazorat, ulanishlar 3–5% = 8–10%. Ochiq manbada Toshkent uchun me'yor topilmadi.
A10: Yer va shu kungacha sarflangan mablag' | B10: 800000 | E10: $ | F10: TAXMIN — buyurtmachi balansidan tasdiqlanishi kerak. Strategiyalarni solishtirishga ta'sir qilmaydi (barcha variantlarda bir xil), lekin mutlaq foyda va IRRga ta'sir qiladi.
A11: Yer/sarflangan mablag'ni investitsiyaga qo'shish (1=ha, 0=yo'q) | B11: 1 | E11: 1/0 | F11: 0 — hisob «bugundan»: o'tgan xarajatlar strategiya tanlashga ta'sir qilmaydi.
A12: Sotuv narxlari QQS bilan ko'rsatilgan (1=ha) | B12: 1 | E12: 1/0 | F12: CASE modeli: «$1 400 за м² с НДС».
A13: QQS stavkasi | B13: 0.12 | E13: % | F13: Soliq kodeksi 258-modda: 12%. Noturar joyni sotish va ijaraga berish QQSdan ozod emas (243-modda).
A14: Sotuv boshlanadigan oy | B14: 1 | E14: oy
A15: Xaridor uchun bo'lib to'lash muddati | B15: 4 | E15: oy | F15: CASE jadvali: 50% imzolashda, 25% 2 oydan, 25% yana 2 oydan keyin (≈4 oy).
A16: Boshlang'ich to'lov | B16: 0.5 | E16: % | F16: CASE investitsiya modeli bo'yicha 50%.
A17: Rieltor komissiyasi (sotuv) | B17: 0.025 | E17: % shartnomadan | F17: Sotuvda 2–3% (sotuvchi to'laydi) — bozor amaliyoti; modelda 2,5%.
A18: Marketing | B18: 0.01 | E18: % shartnomadan | F18: Taxmin.
A19: Birinchi oydagi bandlik | B19: 0.2 | E19: % | F19: Oldindan ijara shartnomalari (pre-lease) hisobiga.
A20: Ijaraga berish komissiyasi | B20: 0.0625 | E20: % yillik ijaradan | F20: 1 oylik ijara = 8,33%.
A21: Avtoturargoh va boshqa daromad (to'liq bandlikda) | B21: 1500 | E21: $/oy | F21: CMWP (2025-yil oktabr): B klassda ochiq avtoturargoh odatda ijarachilarga biriktiriladi; pullik bo'lsa ≈ $100/joy/oy. Taxmin: 30 joyning yarmi pullik.
A22: Boshqaruv | B22: 0.03 | E22: % daromaddan
A23: Ta'mir zaxirasi | B23: 0.02 | E23: % daromaddan
A24: Mol-mulk solig'i | B24: 0.015 | E24: %/yil | F24: Soliq kodeksi 411–415-moddalar: yuridik shaxslar 1,5% (o'rtacha yillik qoldiq qiymatdan; Toshkentda baza 3,53 mln so'm/m² dan kam emas). Me'yoriy muddatda tugallanmagan obyekt — 3%.
A25: Sug'urta | B25: 0.002 | E25: %/yil
A26: Yer solig'i | B26: 6000 | E26: $/yil | F26: TAXMIN: uchastka ≈ 2 000 m² × 2-zona 25 420 so'm/m² × Kengash koeffitsiyenti ~1,4 ≈ $6 000/yil. Uchastka maydoni va Yunusobod Kengashi koeffitsiyenti tasdiqlanmagan.
A27: Soliq amortizatsiyasi (bino; yer amortizatsiya qilinmaydi) | B27: 0.05 | E27: %/yil | F27: Soliq kodeksi 306-modda: binolar uchun chegaraviy norma 5%/yil (inshootlar 10%). Yer amortizatsiya qilinmaydi — baza faqat qurilish qiymati. Manba: buxgalter.uz/publish/doc/text210748
A28: Foyda solig'i | B28: 0.15 | E28: % | F28: Soliq kodeksi 337-modda: 15%. Aylanmadan soliq (4%) qo'llanilmaydi — daromad 1 mlrd so'mdan yuqori.
A29: Chiqishdagi sotuv xarajatlari | B29: 0.025 | E29: %
A30: Me'yoriy qurilish muddati (ruxsatnomadan) | B30: 24 | E30: oy | F30: Soliq kodeksi 411-modda: loyiha hujjatlaridagi me'yoriy muddat, u belgilanmagan bo'lsa — ruxsatnoma olingan oydan 24 oy. Undan keyin: tugallanmagan qurilishga 3% mol-mulk solig'i, yer solig'i 2 baravar (429-modda).
A31: Muddatida tugallanmagan qurilishga mol-mulk solig'i | B31: 0.03 | E31: %/yil | F31: Soliq kodeksi 411-modda: 3%. Baza — tugallanmagan qurilish qiymati.
A32: Diskont stavkasi (USD) | B32: 0.13 | E32: % yillik | F32: Tuzilishi: suveren USD obligatsiya ~6–7% + ko'chmas mulk va likvidlik mukofoti 5–7% = 11–15%; CMWP: «real daromadlilik ≈ 12%, 14% dan yuqori emas». Baza 13%.
A34: B. Ssenariyga bog'liq kirishlar
A35: Parametr | B35: Konservativ | C35: Bazaviy | D35: Optimistik | E35: Birlik | F35: Manba / izoh
A36: Qurilish tugashigacha muddat | B36: 27 | C36: 20 | D36: 14 | E36: oy | F36: Bino loyihalash bosqichida (CASE sayti). Baza: ruxsatnomalar 2–4 oy + qurilish 16–18 oy. CASE investitsiya modeli 2027-yil 3-chorakni (~12–14 oy) ko'zda tutadi — bu optimistik ssenariy. 24 oydan oshsa: mol-mulk solig'i 3%, yer solig'i 2 baravar.
A37: Qurilish qiymati (shell & core, fasad, muhandislik) | B37: 800 | C37: 680 | D37: 580 | E37: $/m² GBA, QQSsiz | F37: TAXMIN (triangulyatsiya): uy-joy tannarxi $383–466/m² (SSP, Spot 17.12.2025) < ofis B+ < A klass minoralar $1 326+/m²; quruq ombor $667/m² (IBC Global, 04.2026). Pudratchi takliflari bilan almashtirilishi kerak.
A38: Qurilish narxining yillik o'sishi (USD) | B38: 0.04 | C38: 0.02 | D38: 0 | E38: %/yil | F38: USD da qurilish narxining yillik o'sishi 0–4% (03-fayl: USD xarajatlarni 0–3%/yil indeksatsiya qilish tavsiya etilgan). Kechikishda qurilish qimmatlashadi.
A39: Kutilmagan xarajatlar zaxirasi | B39: 0.1 | C39: 0.075 | D39: 0.05 | E39: % qurilishdan | F39: TAXMIN: 5 / 7,5 / 10%.
A40: Ijaradagi maydonni tayyorlash (mulkdor hissasi) | B40: 150 | C40: 130 | D40: 100 | E40: $/m² GLA | F40: White box (pol, shift, yoritish, elektr tarmog'i) ≈ $100–150/m² GLA — TAXMIN. CMWP: «hatto bazaviy pardoz ham ijaraga berish ehtimolini sezilarli oshiradi».
A41: Sotuv narxi: 2–7-qavatlar (hozir, oldindan sotuv) | B41: 1100 | C41: 1250 | D41: 1400 | E41: $/m² sotiladigan maydon | F41: 2-bo'lim tuzatishlar setkasi: tayyor binolardagi shell ofis qavatlari (n=7) → topshirish paytidagi bitim qiymati ≈ $1 470/m²; loyiha bosqichi chegirmasi −20% → hozir ≈ $1 180 (100% to'lov) … $1 300 (bo'lib to'lash bilan). Baza $1 250. Optimistik = CASE so'rayotgan $1 400. QQS bilan, sotiladigan m² uchun.
A42: Sotuv narxi: 1-qavat | B42: 1450 | C42: 1650 | D42: 1950 | E42: $/m² sotiladigan maydon | F42: 2-bo'lim: 1-qavat analoglari (n=10) tuzatishlardan keyin topshirish paytida ≈ $1 950/m²; loyiha bosqichida −15…−25%. Tavsiya: 1-qavatni topshirishdan oldin sotmaslik.
...

Sheet Parametrlar
A1: Hosila parametrlar — 3 strategiya × 3 ssenariy (formulalar, o'zgartirilmaydi)
A3: Parametr | B3: A · Kons | C3: A · Baza | D3: A · Opt | E3: B · Kons | F3: B · Baza | G3: B · Opt | H3: C · Kons | I3: C · Baza | J3: C · Opt
A4: Qurilish muddati, oy | B4: =MAX(1,ROUND(Kirish!$B$36,0)) -> 27 | C4: =MAX(1,ROUND(Kirish!$C$36,0)) -> 20 | D4: =MAX(1,ROUND(Kirish!$D$36,0)) -> 14 | E4: =MAX(1,ROUND(Kirish!$B$36,0)) -> 27 | F4: =MAX(1,ROUND(Kirish!$C$36,0)) -> 20 | G4: =MAX(1,ROUND(Kirish!$D$36,0)) -> 14 | H4: =MAX(1,ROUND(Kirish!$B$36,0)) -> 27 | I4: =MAX(1,ROUND(Kirish!$C$36,0)) -> 20 | J4: =MAX(1,ROUND(Kirish!$D$36,0)) -> 14
A5: Sotuv muddati, oy | B5: =MAX(1,ROUND(Kirish!$B$46,0)) -> 30 | C5: =MAX(1,ROUND(Kirish!$C$46,0)) -> 20 | D5: =MAX(1,ROUND(Kirish!$D$46,0)) -> 12 | E5: =MAX(1,ROUND(Kirish!$B$46,0)) -> 30 | F5: =MAX(1,ROUND(Kirish!$C$46,0)) -> 20 | G5: =MAX(1,ROUND(Kirish!$D$46,0)) -> 12 | H5: =MAX(1,ROUND(Kirish!$B$46,0)) -> 30 | I5: =MAX(1,ROUND(Kirish!$C$46,0)) -> 20 | J5: =MAX(1,ROUND(Kirish!$D$46,0)) -> 12
A6: Bo'lib to'lash, oy | B6: =MAX(0,ROUND(Kirish!$B$15,0)) -> 4 | C6: =MAX(0,ROUND(Kirish!$B$15,0)) -> 4 | D6: =MAX(0,ROUND(Kirish!$B$15,0)) -> 4 | E6: =MAX(0,ROUND(Kirish!$B$15,0)) -> 4 | F6: =MAX(0,ROUND(Kirish!$B$15,0)) -> 4 | G6: =MAX(0,ROUND(Kirish!$B$15,0)) -> 4 | H6: =MAX(0,ROUND(Kirish!$B$15,0)) -> 4 | I6: =MAX(0,ROUND(Kirish!$B$15,0)) -> 4 | J6: =MAX(0,ROUND(Kirish!$B$15,0)) -> 4
A7: Sotuv boshlanishi, oy | B7: =MAX(0,ROUND(Kirish!$B$14,0)) -> 1 | C7: =MAX(0,ROUND(Kirish!$B$14,0)) -> 1 | D7: =MAX(0,ROUND(Kirish!$B$14,0)) -> 1 | E7: =MAX(0,ROUND(Kirish!$B$14,0)) -> 1 | F7: =MAX(0,ROUND(Kirish!$B$14,0)) -> 1 | G7: =MAX(0,ROUND(Kirish!$B$14,0)) -> 1 | H7: =MAX(0,ROUND(Kirish!$B$14,0)) -> 1 | I7: =MAX(0,ROUND(Kirish!$B$14,0)) -> 1 | J7: =MAX(0,ROUND(Kirish!$B$14,0)) -> 1
A8: Chiqish oyi (ijara) | B8: =MIN(168,Parametrlar!$B$4+ROUND(Kirish!$B$8,0)*12) -> 147 | C8: =MIN(168,Parametrlar!$C$4+ROUND(Kirish!$B$8,0)*12) -> 140 | D8: =MIN(168,Parametrlar!$D$4+ROUND(Kirish!$B$8,0)*12) -> 134 | E8: =MIN(168,Parametrlar!$E$4+ROUND(Kirish!$B$8,0)*12) -> 147 | F8: =MIN(168,Parametrlar!$F$4+ROUND(Kirish!$B$8,0)*12) -> 140 | G8: =MIN(168,Parametrlar!$G$4+ROUND(Kirish!$B$8,0)*12) -> 134 | H8: =MIN(168,Parametrlar!$H$4+ROUND(Kirish!$B$8,0)*12) -> 147 | I8: =MIN(168,Parametrlar!$I$4+ROUND(Kirish!$B$8,0)*12) -> 140 | J8: =MIN(168,Parametrlar!$J$4+ROUND(Kirish!$B$8,0)*12) -> 134
A9: Samarali boshlang'ich to'lov | B9: =IF(Parametrlar!$B$6>0,Kirish!$B$16,1) -> 0.5 | C9: =IF(Parametrlar!$C$6>0,Kirish!$B$16,1) -> 0.5 | D9: =IF(Parametrlar!$D$6>0,Kirish!$B$16,1) -> 0.5 | E9: =IF(Parametrlar!$E$6>0,Kirish!$B$16,1) -> 0.5 | F9: =IF(Parametrlar!$F$6>0,Kirish!$B$16,1) -> 0.5 | G9: =IF(Parametrlar!$G$6>0,Kirish!$B$16,1) -> 0.5 | H9: =IF(Parametrlar!$H$6>0,Kirish!$B$16,1) -> 0.5 | I9: =IF(Parametrlar!$I$6>0,Kirish!$B$16,1) -> 0.5 | J9: =IF(Parametrlar!$J$6>0,Kirish!$B$16,1) -> 0.5
A10: QQS bo'luvchisi | B10: =IF(Kirish!$B$12=1,1+Kirish!$B$13,1) -> 1.12 | C10: =IF(Kirish!$B$12=1,1+Kirish!$B$13,1) -> 1.12 | D10: =IF(Kirish!$B$12=1,1+Kirish!$B$13,1) -> 1.12 | E10: =IF(Kirish!$B$12=1,1+Kirish!$B$13,1) -> 1.12 | F10: =IF(Kirish!$B$12=1,1+Kirish!$B$13,1) -> 1.12 | G10: =IF(Kirish!$B$12=1,1+Kirish!$B$13,1) -> 1.12 | H10: =IF(Kirish!$B$12=1,1+Kirish!$B$13,1) -> 1.12 | I10: =IF(Kirish!$B$12=1,1+Kirish!$B$13,1) -> 1.12 | J10: =IF(Kirish!$B$12=1,1+Kirish!$B$13,1) -> 1.12
A11: Ijarada qoladigan GBA, m² | B11: =SUMPRODUCT(Kirish!$B$59:$B$66*(1-Kirish!$F$59:$F$66)) -> 0 | C11: =SUMPRODUCT(Kirish!$B$59:$B$66*(1-Kirish!$F$59:$F$66)) -> 0 | D11: =SUMPRODUCT(Kirish!$B$59:$B$66*(1-Kirish!$F$59:$F$66)) -> 0 | E11: =SUMPRODUCT(Kirish!$B$59:$B$66*(1-Kirish!$G$59:$G$66)) -> 3902.41 | F11: =SUMPRODUCT(Kirish!$B$59:$B$66*(1-Kirish!$G$59:$G$66)) -> 3902.41 | G11: =SUMPRODUCT(Kirish!$B$59:$B$66*(1-Kirish!$G$59:$G$66)) -> 3902.41 | H11: =SUMPRODUCT(Kirish!$B$59:$B$66*(1-Kirish!$H$59:$H$66)) -> 900.07 | I11: =SUMPRODUCT(Kirish!$B$59:$B$66*(1-Kirish!$H$59:$H$66)) -> 900.07 | J11: =SUMPRODUCT(Kirish!$B$59:$B$66*(1-Kirish!$H$59:$H$66)) -> 900.07
A12: Ijarada qoladigan GLA, m² | B12: =SUMPRODUCT(Kirish!$D$59:$D$66*(1-Kirish!$F$59:$F$66)) -> 0 | C12: =SUMPRODUCT(Kirish!$D$59:$D$66*(1-Kirish!$F$59:$F$66)) -> 0 | D12: =SUMPRODUCT(Kirish!$D$59:$D$66*(1-Kirish!$F$59:$F$66)) -> 0 | E12: =SUMPRODUCT(Kirish!$D$59:$D$66*(1-Kirish!$G$59:$G$66)) -> 2575.4 | F12: =SUMPRODUCT(Kirish!$D$59:$D$66*(1-Kirish!$G$59:$G$66)) -> 2575.4 | G12: =SUMPRODUCT(Kirish!$D$59:$D$66*(1-Kirish!$G$59:$G$66)) -> 2575.4 | H12: =SUMPRODUCT(Kirish!$D$59:$D$66*(1-Kirish!$H$59:$H$66)) -> 548 | I12: =SUMPRODUCT(Kirish!$D$59:$D$66*(1-Kirish!$H$59:$H$66)) -> 548 | J12: =SUMPRODUCT(Kirish!$D$59:$D$66*(1-Kirish!$H$59:$H$66)) -> 548
A13: Sotiladigan maydon, m² | B13: =SUMPRODUCT(Kirish!$C$59:$C$66*Kirish!$F$59:$F$66) -> 3465.7 | C13: =SUMPRODUCT(Kirish!$C$59:$C$66*Kirish!$F$59:$F$66) -> 3465.7 | D13: =SUMPRODUCT(Kirish!$C$59:$C$66*Kirish!$F$59:$F$66) -> 3465.7 | E13: =SUMPRODUCT(Kirish!$C$59:$C$66*Kirish!$G$59:$G$66) -> 0 | F13: =SUMPRODUCT(Kirish!$C$59:$C$66*Kirish!$G$59:$G$66) -> 0 | G13: =SUMPRODUCT(Kirish!$C$59:$C$66*Kirish!$G$59:$G$66) -> 0 | H13: =SUMPRODUCT(Kirish!$C$59:$C$66*Kirish!$H$59:$H$66) -> 2752.38 | I13: =SUMPRODUCT(Kirish!$C$59:$C$66*Kirish!$H$59:$H$66) -> 2752.38 | J13: =SUMPRODUCT(Kirish!$C$59:$C$66*Kirish!$H$59:$H$66) -> 2752.38
A14: Ijara ulushi (GBA bo'yicha) | B14: =Parametrlar!$B$11/Kirish!$B$67 -> 0 | C14: =Parametrlar!$C$11/Kirish!$B$67 -> 0 | D14: =Parametrlar!$D$11/Kirish!$B$67 -> 0 | E14: =Parametrlar!$E$11/Kirish!$B$67 -> 1 | F14: =Parametrlar!$F$11/Kirish!$B$67 -> 1 | G14: =Parametrlar!$G$11/Kirish!$B$67 -> 1 | H14: =Parametrlar!$H$11/Kirish!$B$67 -> 0.23064465 | I14: =Parametrlar!$I$11/Kirish!$B$67 -> 0.23064465 | J14: =Parametrlar!$J$11/Kirish!$B$67 -> 0.23064465
A15: Sotuv bazasi (hozirgi narxda, QQSsiz), $ | B15: =(SUMPRODUCT((Kirish!$E$59:$E$66="b")*Kirish!$C$59:$C$66*Kirish!$F$59:$F$66)*Kirish!$B$43+SUMPRODUCT((Kirish!$E$59:$E$66="f1")*Kirish!$C$59:$C$66*Kirish!$F$59:$F$66)*Kirish!$B$42+SUMPRODUCT((Kirish!$E$59:$E$66="of")*Kirish!$C$59:$C$66*Kirish!$F$59:$F$66)*Kirish!$B$41)/Parametrlar!$B$10 -> 3334281.2 | C15: =(SUMPRODUCT((Kirish!$E$59:$E$66="b")*Kirish!$C$59:$C$66*Kirish!$F$59:$F$66)*Kirish!$C$43+SUMPRODUCT((Kirish!$E$59:$E$66="f1")*Kirish!$C$59:$C$66*Kirish!$F$59:$F$66)*Kirish!$C$42+SUMPRODUCT((Kirish!$E$59:$E$66="of")*Kirish!$C$59:$C$66*Kirish!$F$59:$F$66)*Kirish!$C$41)/Parametrlar!$C$10 -> 3797788.4 | D15: =(SUMPRODUCT((Kirish!$E$59:$E$66="b")*Kirish!$C$59:$C$66*Kirish!$F$59:$F$66)*Kirish!$D$43+SUMPRODUCT((Kirish!$E$59:$E$66="f1")*Kirish!$C$59:$C$66*Kirish!$F$59:$F$66)*Kirish!$D$42+SUMPRODUCT((Kirish!$E$59:$E$66="of")*Kirish!$C$59:$C$66*Kirish!$F$59:$F$66)*Kirish!$D$41)/Parametrlar!$D$10 -> 4292491.1 | E15: =(SUMPRODUCT((Kirish!$E$59:$E$66="b")*Kirish!$C$59:$C$66*Kirish!$G$59:$G$66)*Kirish!$B$43+SUMPRODUCT((Kirish!$E$59:$E$66="f1")*Kirish!$C$59:$C$66*Kirish!$G$59:$G$66)*Kirish!$B$42+SUMPRODUCT((Kirish!$E$59:$E$66="of")*Kirish!$C$59:$C$66*Kirish!$G$59:$G$66)*Kirish!$B$41)/Parametrlar!$E$10 -> 0 | F15: =(SUMPRODUCT((Kirish!$E$59:$E$66="b")*Kirish!$C$59:$C$66*Kirish!$G$59:$G$66)*Kirish!$C$43+SUMPRODUCT((Kirish!$E$59:$E$66="f1")*Kirish!$C$59:$C$66*Kirish!$G$59:$G$66)*Kirish!$C$42+SUMPRODUCT((Kirish!$E$59:$E$66="of")*Kirish!$C$59:$C$66*Kirish!$G$59:$G$66)*Kirish!$C$41)/Parametrlar!$F$10 -> 0 | G15: =(SUMPRODUCT((Kirish!$E$59:$E$66="b")*Kirish!$C$59:$C$66*Kirish!$G$59:$G$66)*Kirish!$D$43+SUMPRODUCT((Kirish!$E$59:$E$66="f1")*Kirish!$C$59:$C$66*Kirish!$G$59:$G$66)*Kirish!$D$42+SUMPRODUCT((Kirish!$E$59:$E$66="of")*Kirish!$C$59:$C$66*Kirish!$G$59:$G$66)*Kirish!$D$41)/Parametrlar!$G$10 -> 0 | H15: =(SUMPRODUCT((Kirish!$E$59:$E$66="b")*Kirish!$C$59:$C$66*Kirish!$H$59:$H$66)*Kirish!$B$43+SUMPRODUCT((Kirish!$E$59:$E$66="f1")*Kirish!$C$59:$C$66*Kirish!$H$59:$H$66)*Kirish!$B$42+SUMPRODUCT((Kirish!$E$59:$E$66="of")*Kirish!$C$59:$C$66*Kirish!$H$59:$H$66)*Kirish!$B$41)/Parametrlar!$H$10 -> 2703230.4 | I15: =(SUMPRODUCT((Kirish!$E$59:$E$66="b")*Kirish!$C$59:$C$66*Kirish!$H$59:$H$66)*Kirish!$C$43+SUMPRODUCT((Kirish!$E$59:$E$66="f1")*Kirish!$C$59:$C$66*Kirish!$H$59:$H$66)*Kirish!$C$42+SUMPRODUCT((Kirish!$E$59:$E$66="of")*Kirish!$C$59:$C$66*Kirish!$H$59:$H$66)*Kirish!$C$41)/Parametrlar!$I$10 -> 3071852.7 | J15: =(SUMPRODUCT((Kirish!$E$59:$E$66="b")*Kirish!$C$59:$C$66*Kirish!$H$59:$H$66)*Kirish!$D$43+SUMPRODUCT((Kirish!$E$59:$E$66="f1")*Kirish!$C$59:$C$66*Kirish!$H$59:$H$66)*Kirish!$D$42+SUMPRODUCT((Kirish!$E$59:$E$66="of")*Kirish!$C$59:$C$66*Kirish!$H$59:$H$66)*Kirish!$D$41)/Parametrlar!$J$10 -> 3440475
A16: Ijara salohiyati (100% bandlik), $/oy | B16: =SUMPRODUCT((Kirish!$E$59:$E$66="b")*Kirish!$D$59:$D$66*(1-Kirish!$F$59:$F$66))*Kirish!$B$49+SUMPRODUCT((Kirish!$E$59:$E$66="f1")*Kirish!$D$59:$D$66*(1-Kirish!$F$59:$F$66))*Kirish!$B$48+SUMPRODUCT((Kirish!$E$59:$E$66="of")*Kirish!$D$59:$D$66*(1-Kirish!$F$59:$F$66))*Kirish!$B$47 -> 0 | C16: =SUMPRODUCT((Kirish!$E$59:$E$66="b")*Kirish!$D$59:$D$66*(1-Kirish!$F$59:$F$66))*Kirish!$C$49+SUMPRODUCT((Kirish!$E$59:$E$66="f1")*Kirish!$D$59:$D$66*(1-Kirish!$F$59:$F$66))*Kirish!$C$48+SUMPRODUCT((Kirish!$E$59:$E$66="of")*Kirish!$D$59:$D$66*(1-Kirish!$F$59:$F$66))*Kirish!$C$47 -> 0 | D16: =SUMPRODUCT((Kirish!$E$59:$E$66="b")*Kirish!$D$59:$D$66*(1-Kirish!$F$59:$F$66))*Kirish!$D$49+SUMPRODUCT((Kirish!$E$59:$E$66="f1")*Kirish!$D$59:$D$66*(1-Kirish!$F$59:$F$66))*Kirish!$D$48+SUMPRODUCT((Kirish!$E$59:$E$66="of")*Kirish!$D$59:$D$66*(1-Kirish!$F$59:$F$66))*Kirish!$D$47 -> 0 | E16: =SUMPRODUCT((Kirish!$E$59:$E$66="b")*Kirish!$D$59:$D$66*(1-Kirish!$G$59:$G$66))*Kirish!$B$49+SUMPRODUCT((Kirish!$E$59:$E$66="f1")*Kirish!$D$59:$D$66*(1-Kirish!$G$59:$G$66))*Kirish!$B$48+SUMPRODUCT((Kirish!$E$59:$E$66="of")*Kirish!$D$59:$D$66*(1-Kirish!$G$59:$G$66))*Kirish!$B$47 -> 34866.5 | F16: =SUMPRODUCT((Kirish!$E$59:$E$66="b")*Kirish!$D$59:$D$66*(1-Kirish!$G$59:$G$66))*Kirish!$C$49+SUMPRODUCT((Kirish!$E$59:$E$66="f1")*Kirish!$D$59:$D$66*(1-Kirish!$G$59:$G$66))*Kirish!$C$48+SUMPRODUCT((Kirish!$E$59:$E$66="of")*Kirish!$D$59:$D$66*(1-Kirish!$G$59:$G$66))*Kirish!$C$47 -> 42632.9 | G16: =SUMPRODUCT((Kirish!$E$59:$E$66="b")*Kirish!$D$59:$D$66*(1-Kirish!$G$59:$G$66))*Kirish!$D$49+SUMPRODUCT((Kirish!$E$59:$E$66="f1")*Kirish!$D$59:$D$66*(1-Kirish!$G$59:$G$66))*Kirish!$D$48+SUMPRODUCT((Kirish!$E$59:$E$66="of")*Kirish!$D$59:$D$66*(1-Kirish!$G$59:$G$66))*Kirish!$D$47 -> 52720.8 | H16: =SUMPRODUCT((Kirish!$E$59:$E$66="b")*Kirish!$D$59:$D$66*(1-Kirish!$H$59:$H$66))*Kirish!$B$49+SUMPRODUCT((Kirish!$E$59:$E$66="f1")*Kirish!$D$59:$D$66*(1-Kirish!$H$59:$H$66))*Kirish!$B$48+SUMPRODUCT((Kirish!$E$59:$E$66="of")*Kirish!$D$59:$D$66*(1-Kirish!$H$59:$H$66))*Kirish!$B$47 -> 6482.9 | I16: =SUMPRODUCT((Kirish!$E$59:$E$66="b")*Kirish!$D$59:$D$66*(1-Kirish!$H$59:$H$66))*Kirish!$C$49+SUMPRODUCT((Kirish!$E$59:$E$66="f1")*Kirish!$D$59:$D$66*(1-Kirish!$H$59:$H$66))*Kirish!$C$48+SUMPRODUCT((Kirish!$E$59:$E$66="of")*Kirish!$D$59:$D$66*(1-Kirish!$H$59:$H$66))*Kirish!$C$47 -> 8167.1 | J16: =SUMPRODUCT((Kirish!$E$59:$E$66="b")*Kirish!$D$59:$D$66*(1-Kirish!$H$59:$H$66))*Kirish!$D$49+SUMPRODUCT((Kirish!$E$59:$E$66="f1")*Kirish!$D$59:$D$66*(1-Kirish!$H$59:$H$66))*Kirish!$D$48+SUMPRODUCT((Kirish!$E$59:$E$66="of")*Kirish!$D$59:$D$66*(1-Kirish!$H$59:$H$66))*Kirish!$D$47 -> 10145.4
A17: Qurilish jami (soft va zaxira bilan), $ | B17: =Kirish!$B$37*Kirish!$B$67*(1+Kirish!$B$9+Kirish!$B$39) -> 3715094.3 | C17: =Kirish!$C$37*Kirish!$B$67*(1+Kirish!$B$9+Kirish!$C$39) -> 3091489.2 | D17: =Kirish!$D$37*Kirish!$B$67*(1+Kirish!$B$9+Kirish!$D$39) -> 2580273.5 | E17: =Kirish!$B$37*Kirish!$B$67*(1+Kirish!$B$9+Kirish!$B$39) -> 3715094.3 | F17: =Kirish!$C$37*Kirish!$B$67*(1+Kirish!$B$9+Kirish!$C$39) -> 3091489.2 | G17: =Kirish!$D$37*Kirish!$B$67*(1+Kirish!$B$9+Kirish!$D$39) -> 2580273.5 | H17: =Kirish!$B$37*Kirish!$B$67*(1+Kirish!$B$9+Kirish!$B$39) -> 3715094.3 | I17: =Kirish!$C$37*Kirish!$B$67*(1+Kirish!$B$9+Kirish!$C$39) -> 3091489.2 | J17: =Kirish!$D$37*Kirish!$B$67*(1+Kirish!$B$9+Kirish!$D$39) -> 2580273.5
A18: Ijaradagi maydonni tayyorlash jami, $ | B18: =Kirish!$B$40*Parametrlar!$B$12 -> 0 | C18: =Kirish!$C$40*Parametrlar!$C$12 -> 0 | D18: =Kirish!$D$40*Parametrlar!$D$12 -> 0 | E18: =Kirish!$B$40*Parametrlar!$E$12 -> 386310 | F18: =Kirish!$C$40*Parametrlar!$F$12 -> 334802 | G18: =Kirish!$D$40*Parametrlar!$G$12 -> 257540 | H18: =Kirish!$B$40*Parametrlar!$H$12 -> 82200 | I18: =Kirish!$C$40*Parametrlar!$I$12 -> 71240 | J18: =Kirish!$D$40*Parametrlar!$J$12 -> 54800
A19: Tayyorlash ishlari, oy | B19: =MIN(3,Parametrlar!$B$4) -> 3 | C19: =MIN(3,Parametrlar!$C$4) -> 3 | D19: =MIN(3,Parametrlar!$D$4) -> 3 | E19: =MIN(3,Parametrlar!$E$4) -> 3 | F19: =MIN(3,Parametrlar!$F$4) -> 3 | G19: =MIN(3,Parametrlar!$G$4) -> 3 | H19: =MIN(3,Parametrlar!$H$4) -> 3 | I19: =MIN(3,Parametrlar!$I$4) -> 3 | J19: =MIN(3,Parametrlar!$J$4) -> 3
A20: Qurilish, indeksatsiya bilan (nominal), $ | B20: =Hisob_A_Sotish!$C$16 -> 3877603 | C20: =Hisob_A_Sotish!$C$49 -> 3140478.8 | D20: =Hisob_A_Sotish!$C$82 -> 2580273.5 | E20: =Hisob_B_Ijara!$C$16 -> 3877603 | F20: =Hisob_B_Ijara!$C$49 -> 3140478.8 | G20: =Hisob_B_Ijara!$C$82 -> 2580273.5 | H20: =Hisob_C_Gibrid!$C$16 -> 3877603 | I20: =Hisob_C_Gibrid!$C$49 -> 3140478.8 | J20: =Hisob_C_Gibrid!$C$82 -> 2580273.5
A21: Qurilish davridagi yer va mol-mulk soliqlari, $ | B21: =Hisob_A_Sotish!$C$17 -> 41839.908 | C21: =Hisob_A_Sotish!$C$50 -> 10000 | D21: =Hisob_A_Sotish!$C$83 -> 7000 | E21: =Hisob_B_Ijara!$C$17 -> 41839.908 | F21: =Hisob_B_Ijara!$C$50 -> 10000 | G21: =Hisob_B_Ijara!$C$83 -> 7000 | H21: =Hisob_C_Gibrid!$C$17 -> 41839.908 | I21: =Hisob_C_Gibrid!$C$50 -> 10000 | J21: =Hisob_C_Gibrid!$C$83 -> 7000
A22: Sotilgan qismga to'g'ri keladigan tannarx, $ | B22: =(Kirish!$B$10+Parametrlar!$B$20+Parametrlar!$B$21)*(1-Parametrlar!$B$14) -> 4719442.9 | C22: =(Kirish!$B$10+Parametrlar!$C$20+Parametrlar!$C$21)*(1-Parametrlar!$C$14) -> 3950478.8 | D22: =(Kirish!$B$10+Parametrlar!$D$20+Parametrlar!$D$21)*(1-Parametrlar!$D$14) -> 3387273.5 | E22: =(Kirish!$B$10+Parametrlar!$E$20+Parametrlar!$E$21)*(1-Parametrlar!$E$14) -> 0 | F22: =(Kirish!$B$10+Parametrlar!$F$20+Parametrlar!$F$21)*(1-Parametrlar!$F$14) -> 0 | G22: =(Kirish!$B$10+Parametrlar!$G$20+Parametrlar!$G$21)*(1-Parametrlar!$G$14) -> 0 | H22: =(Kirish!$B$10+Parametrlar!$H$20+Parametrlar!$H$21)*(1-Parametrlar!$H$14) -> 3630928.7 | I22: =(Kirish!$B$10+Parametrlar!$I$20+Parametrlar!$I$21)*(1-Parametrlar!$I$14) -> 3039322 | J22: =(Kirish!$B$10+Parametrlar!$J$20+Parametrlar!$J$21)*(1-Parametrlar!$J$14) -> 2606017
A23: Ijaradagi qismning balans qiymati, $ | B23: =(Kirish!$B$10+Parametrlar!$B$20+Parametrlar!$B$21)*Parametrlar!$B$14+Parametrlar!$B$18 -> 0 | C23: =(Kirish!$B$10+Parametrlar!$C$20+Parametrlar!$C$21)*Parametrlar!$C$14+Parametrlar!$C$18 -> 0 | D23: =(Kirish!$B$10+Parametrlar!$D$20+Parametrlar!$D$21)*Parametrlar!$D$14+Parametrlar!$D$18 -> 0 | E23: =(Kirish!$B$10+Parametrlar!$E$20+Parametrlar!$E$21)*Parametrlar!$E$14+Parametrlar!$E$18 -> 5105752.9 | F23: =(Kirish!$B$10+Parametrlar!$F$20+Parametrlar!$F$21)*Parametrlar!$F$14+Parametrlar!$F$18 -> 4285280.8 | G23: =(Kirish!$B$10+Parametrlar!$G$20+Parametrlar!$G$21)*Parametrlar!$G$14+Parametrlar!$G$18 -> 3644813.5 | H23: =(Kirish!$B$10+Parametrlar!$H$20+Parametrlar!$H$21)*Parametrlar!$H$14+Parametrlar!$H$18 -> 1170714.3 | I23: =(Kirish!$B$10+Parametrlar!$I$20+Parametrlar!$I$21)*Parametrlar!$I$14+Parametrlar!$I$18 -> 982396.81 | J23: =(Kirish!$B$10+Parametrlar!$J$20+Parametrlar!$J$21)*Parametrlar!$J$14+Parametrlar!$J$18 -> 836056.52
A24: Amortizatsiya bazasi (yersiz), $ | B24: =Parametrlar!$B$20*Parametrlar!$B$14+Parametrlar!$B$18 -> 0 | C24: =Parametrlar!$C$20*Parametrlar!$C$14+Parametrlar!$C$18 -> 0 | D24: =Parametrlar!$D$20*Parametrlar!$D$14+Parametrlar!$D$18 -> 0 | E24: =Parametrlar!$E$20*Parametrlar!$E$14+Parametrlar!$E$18 -> 4263913 | F24: =Parametrlar!$F$20*Parametrlar!$F$14+Parametrlar!$F$18 -> 3475280.8 | G24: =Parametrlar!$G$20*Parametrlar!$G$14+Parametrlar!$G$18 -> 2837813.5 | H24: =Parametrlar!$H$20*Parametrlar!$H$14+Parametrlar!$H$18 -> 976548.4 | I24: =Parametrlar!$I$20*Parametrlar!$I$14+Parametrlar!$I$18 -> 795574.64 | J24: =Parametrlar!$J$20*Parametrlar!$J$14+Parametrlar!$J$18 -> 649926.28
A25: Shartnomalar jami (QQSsiz), $ | B25: =Hisob_A_Sotish!$C$11 -> 3523223.9 | C25: =Hisob_A_Sotish!$C$44 -> 4156679.4 | D25: =Hisob_A_Sotish!$C$77 -> 4790726.6 | E25: =Hisob_B_Ijara!$C$11 -> 0 | F25: =Hisob_B_Ijara!$C$44 -> 0 | G25: =Hisob_B_Ijara!$C$77 -> 0 | H25: =Hisob_C_Gibrid!$C$11 -> 2856413.4 | I25: =Hisob_C_Gibrid!$C$44 -> 3362142.8 | J25: =Hisob_C_Gibrid!$C$77 -> 3839815.8
A26: Sotuv marjasi (soliq uchun) | B26: =IF(Parametrlar!$B$25>0,(Parametrlar!$B$25*(1-Kirish!$B$17-Kirish!$B$18)-Parametrlar!$B$22)/Parametrlar!$B$25,0) -> -0.374524 | C26: =IF(Parametrlar!$C$25>0,(Parametrlar!$C$25*(1-Kirish!$B$17-Kirish!$B$18)-Parametrlar!$C$22)/Parametrlar!$C$25,0) -> 0.01460705 | D26: =IF(Parametrlar!$D$25>0,(Parametrlar!$D$25*(1-Kirish!$B$17-Kirish!$B$18)-Parametrlar!$D$22)/Parametrlar!$D$25,0) -> 0.25795204 | E26: =IF(Parametrlar!$E$25>0,(Parametrlar!$E$25*(1-Kirish!$B$17-Kirish!$B$18)-Parametrlar!$E$22)/Parametrlar!$E$25,0) -> 0 | F26: =IF(Parametrlar!$F$25>0,(Parametrlar!$F$25*(1-Kirish!$B$17-Kirish!$B$18)-Parametrlar!$F$22)/Parametrlar!$F$25,0) -> 0 | G26: =IF(Parametrlar!$G$25>0,(Parametrlar!$G$25*(1-Kirish!$B$17-Kirish!$B$18)-Parametrlar!$G$22)/Parametrlar!$G$25,0) -> 0 | H26: =IF(Parametrlar!$H$25>0,(Parametrlar!$H$25*(1-Kirish!$B$17-Kirish!$B$18)-Parametrlar!$H$22)/Parametrlar!$H$25,0) -> -0.30614956 | I26: =IF(Parametrlar!$I$25>0,(Parametrlar!$I$25*(1-Kirish!$B$17-Kirish!$B$18)-Parametrlar!$I$22)/Parametrlar!$I$25,0) -> 0.061016379 | J26: =IF(Parametrlar!$J$25>0,(Parametrlar!$J$25*(1-Kirish!$B$17-Kirish!$B$18)-Parametrlar!$J$22)/Parametrlar!$J$25,0) -> 0.2863172

Sheet Hisob_A_Sotish
A1: Oylik hisob — A. Sotish (3 ssenariy)
A2: Barcha kataklar formula. USD, QQSsiz, foyda solig'idan keyin. 0-oy = hisob boshlanishi; qurilish 1..mc oylar; ekspluatatsiya mc+1 dan.
A4: Oy (m) | C4: Jami | D4: 0 | E4: 1 | F4: 2 | G4: 3 | H4: 4 | I4: 5 | J4: 6 | K4: 7 | L4: 8 | M4: 9 | N4: 10 | O4: 11 | P4: 12 | Q4: 13 | R4: 14 | S4: 15 | T4: 16 | U4: 17 | V4: 18 | W4: 19 | X4: 20 | Y4: 21 | Z4: 22 | AA4: 23 | AB4: 24 | AC4: 25 | AD4: 26 | AE4: 27 | AF4: 28 | AG4: 29 | AH4: 30 | AI4: 31 | AJ4: 32 | AK4: 33 | AL4: 34 | AM4: 35 | AN4: 36 | AO4: 37 | AP4: 38 | AQ4: 39 | AR4: 40 | AS4: 41 | AT4: 42 | AU4: 43 | AV4: 44 | AW4: 45 | AX4: 46 | AY4: 47 | AZ4: 48 | BA4: 49 | BB4: 50 | BC4: 51 | BD4: 52 | BE4: 53 | BF4: 54 | BG4: 55 | BH4: 56 | BI4: 57 | BJ4: 58 | BK4: 59 | BL4: 60 | BM4: 61 | BN4: 62 | BO4: 63 | BP4: 64 | BQ4: 65 | BR4: 66 | BS4: 67 | BT4: 68 | BU4: 69 | BV4: 70 | BW4: 71 | BX4: 72 | BY4: 73 | BZ4: 74 | CA4: 75 | CB4: 76 | CC4: 77 | CD4: 78 | CE4: 79 | CF4: 80 | CG4: 81 | CH4: 82 | CI4: 83 | CJ4: 84 | CK4: 85 | CL4: 86 | CM4: 87 | CN4: 88 | CO4: 89 | CP4: 90 | CQ4: 91 | CR4: 92 | CS4: 93 | CT4: 94 | CU4: 95 | CV4: 96 | CW4: 97 | CX4: 98 | CY4: 99 | CZ4: 100 | DA4: 101 | DB4: 102 | DC4: 103 | DD4: 104 | DE4: 105 | DF4: 106 | DG4: 107 | DH4: 108 | DI4: 109 | DJ4: 110 | DK4: 111 | DL4: 112 | DM4: 113 | DN4: 114 | DO4: 115 | DP4: 116 | DQ4: 117 | DR4: 118 | DS4: 119 | DT4: 120 | DU4: 121 | DV4: 122 | DW4: 123 | DX4: 124 | DY4: 125 | DZ4: 126 | EA4: 127 | EB4: 128 | EC4: 129 | ED4: 130 | EE4: 131 | EF4: 132 | EG4: 133 | EH4: 134 | EI4: 135 | EJ4: 136 | EK4: 137 | EL4: 138 | EM4: 139 | EN4: 140 | EO4: 141 | EP4: 142 | EQ4: 143 | ER4: 144 | ES4: 145 | ET4: 146 | EU4: 147 | EV4: 148 | EW4: 149 | EX4: 150 | EY4: 151 | EZ4: 152 | FA4: 153 | FB4: 154 | FC4: 155 | FD4: 156 | FE4: 157 | FF4: 158 | FG4: 159 | FH4: 160 | FI4: 161 | FJ4: 162 | FK4: 163 | FL4: 164 | FM4: 165 | FN4: 166 | FO4: 167 | FP4: 168
A5: Sana | D5: =DATE(Kirish!$B$6,Kirish!$B$7+D4,1) -> 46296 | E5: =DATE(Kirish!$B$6,Kirish!$B$7+E4,1) -> 46327 | F5: =DATE(Kirish!$B$6,Kirish!$B$7+F4,1) -> 46357 | G5: =DATE(Kirish!$B$6,Kirish!$B$7+G4,1) -> 46388 | H5: =DATE(Kirish!$B$6,Kirish!$B$7+H4,1) -> 46419 | I5: =DATE(Kirish!$B$6,Kirish!$B$7+I4,1) -> 46447 | J5: =DATE(Kirish!$B$6,Kirish!$B$7+J4,1) -> 46478 | K5: =DATE(Kirish!$B$6,Kirish!$B$7+K4,1) -> 46508 | ... FP5: =DATE(Kirish!$B$6,Kirish!$B$7+FP4,1) -> 51410
A6: Kalendar yil | D6: =YEAR(D5) -> 2026 | E6: =YEAR(E5) -> 2026 | F6: =YEAR(F5) -> 2026 | G6: =YEAR(G5) -> 2027 | H6: =YEAR(H5) -> 2027 | I6: =YEAR(I5) -> 2027 | J6: =YEAR(J5) -> 2027 | K6: =YEAR(K5) -> 2027 | ... FP6: =YEAR(FP5) -> 2040
A8: Ssenariy: Konservativ
A9: Narx koeffitsiyenti | D9: =IF(D$4<=Parametrlar!$B$4,1+Kirish!$B$44*D$4/Parametrlar!$B$4,(1+Kirish!$B$44)*(1+Kirish!$B$45)^((D$4-Parametrlar!$B$4)/12)) -> 1 | E9: =IF(E$4<=Parametrlar!$B$4,1+Kirish!$B$44*E$4/Parametrlar!$B$4,(1+Kirish!$B$44)*(1+Kirish!$B$45)^((E$4-Parametrlar!$B$4)/12)) -> 1.0037037 | F9: =IF(F$4<=Parametrlar!$B$4,1+Kirish!$B$44*F$4/Parametrlar!$B$4,(1+Kirish!$B$44)*(1+Kirish!$B$45)^((F$4-Parametrlar!$B$4)/12)) -> 1.0074074 | G9: =IF(G$4<=Parametrlar!$B$4,1+Kirish!$B$44*G$4/Parametrlar!$B$4,(1+Kirish!$B$44)*(1+Kirish!$B$45)^((G$4-Parametrlar!$B$4)/12)) -> 1.0111111 | H9: =IF(H$4<=Parametrlar!$B$4,1+Kirish!$B$44*H$4/Parametrlar!$B$4,(1+Kirish!$B$44)*(1+Kirish!$B$45)^((H$4-Parametrlar!$B$4)/12)) -> 1.0148148 | I9: =IF(I$4<=Parametrlar!$B$4,1+Kirish!$B$44*I$4/Parametrlar!$B$4,(1+Kirish!$B$44)*(1+Kirish!$B$45)^((I$4-Parametrlar!$B$4)/12)) -> 1.0185185 | J9: =IF(J$4<=Parametrlar!$B$4,1+Kirish!$B$44*J$4/Parametrlar!$B$4,(1+Kirish!$B$44)*(1+Kirish!$B$45)^((J$4-Parametrlar!$B$4)/12)) -> 1.0222222 | K9: =IF(K$4<=Parametrlar!$B$4,1+Kirish!$B$44*K$4/Parametrlar!$B$4,(1+Kirish!$B$44)*(1+Kirish!$B$45)^((K$4-Parametrlar!$B$4)/12)) -> 1.0259259 | ... FP9: =IF(FP$4<=Parametrlar!$B$4,1+Kirish!$B$44*FP$4/Parametrlar!$B$4,(1+Kirish!$B$44)*(1+Kirish!$B$45)^((FP$4-Parametrlar!$B$4)/12)) -> 1.1
A10: Oyda sotilgan ulush | D10: =IF(AND(D$4>=Parametrlar!$B$7,D$4<Parametrlar!$B$7+Parametrlar!$B$5),1/Parametrlar!$B$5,0) -> 0 | E10: =IF(AND(E$4>=Parametrlar!$B$7,E$4<Parametrlar!$B$7+Parametrlar!$B$5),1/Parametrlar!$B$5,0) -> 0.033333333 | F10: =IF(AND(F$4>=Parametrlar!$B$7,F$4<Parametrlar!$B$7+Parametrlar!$B$5),1/Parametrlar!$B$5,0) -> 0.033333333 | G10: =IF(AND(G$4>=Parametrlar!$B$7,G$4<Parametrlar!$B$7+Parametrlar!$B$5),1/Parametrlar!$B$5,0) -> 0.033333333 | H10: =IF(AND(H$4>=Parametrlar!$B$7,H$4<Parametrlar!$B$7+Parametrlar!$B$5),1/Parametrlar!$B$5,0) -> 0.033333333 | I10: =IF(AND(I$4>=Parametrlar!$B$7,I$4<Parametrlar!$B$7+Parametrlar!$B$5),1/Parametrlar!$B$5,0) -> 0.033333333 | J10: =IF(AND(J$4>=Parametrlar!$B$7,J$4<Parametrlar!$B$7+Parametrlar!$B$5),1/Parametrlar!$B$5,0) -> 0.033333333 | K10: =IF(AND(K$4>=Parametrlar!$B$7,K$4<Parametrlar!$B$7+Parametrlar!$B$5),1/Parametrlar!$B$5,0) -> 0.033333333 | ... FP10: =IF(AND(FP$4>=Parametrlar!$B$7,FP$4<Parametrlar!$B$7+Parametrlar!$B$5),1/Parametrlar!$B$5,0) -> 0
A11: Tuzilgan shartnomalar, $ | C11: =SUM(D11:FP11) -> 3523223.9 | D11: =D10*Parametrlar!$B$15*D9 -> 0 | E11: =E10*Parametrlar!$B$15*E9 -> 111554.35 | F11: =F10*Parametrlar!$B$15*F9 -> 111965.99 | G11: =G10*Parametrlar!$B$15*G9 -> 112377.63 | H11: =H10*Parametrlar!$B$15*H9 -> 112789.27 | I11: =I10*Parametrlar!$B$15*I9 -> 113200.91 | J11: =J10*Parametrlar!$B$15*J9 -> 113612.55 | K11: =K10*Parametrlar!$B$15*K9 -> 114024.19 | ... FP11: =FP10*Parametrlar!$B$15*FP9 -> 0
A12: Shartnomalar (kumulyativ), $ | D12: =D11 -> 0 | E12: =D12+E11 -> 111554.35 | F12: =E12+F11 -> 223520.34 | G12: =F12+G11 -> 335897.96 | H12: =G12+H11 -> 448687.23 | I12: =H12+I11 -> 561888.14 | J12: =I12+J11 -> 675500.68 | K12: =J12+K11 -> 789524.87 | L12: =K12+L11 -> 903960.69 | ... FP12: =FO12+FP11 -> 3523223.9
A13: Sotuvdan tushum (to'lov jadvali bo'yicha), $ | C13: =SUM(D13:FP13) -> 3523223.9 | D13: =Parametrlar!$B$9*D11 -> 0 | E13: =Parametrlar!$B$9*E11+IF(Parametrlar!$B$6>0,(1-Parametrlar!$B$9)/MAX(1,Parametrlar!$B$6)*(D12-IF(E$4-1-Parametrlar!$B$6>=0,INDEX($D$12:$FP$12,1,E$4-Parametrlar!$B$6),0)),0) -> 55777.174 | F13: =Parametrlar!$B$9*F11+IF(Parametrlar!$B$6>0,(1-Parametrlar!$B$9)/MAX(1,Parametrlar!$B$6)*(E12-IF(F$4-1-Parametrlar!$B$6>=0,INDEX($D$12:$FP$12,1,F$4-Parametrlar!$B$6),0)),0) -> 69927.287 | G13: =Parametrlar!$B$9*G11+IF(Parametrlar!$B$6>0,(1-Parametrlar!$B$9)/MAX(1,Parametrlar!$B$6)*(F12-IF(G$4-1-Parametrlar!$B$6>=0,INDEX($D$12:$FP$12,1,G$4-Parametrlar!$B$6),0)),0) -> 84128.856 | H13: =Parametrlar!$B$9*H11+IF(Parametrlar!$B$6>0,(1-Parametrlar!$B$9)/MAX(1,Parametrlar!$B$6)*(G12-IF(H$4-1-Parametrlar!$B$6>=0,INDEX($D$12:$FP$12,1,H$4-Parametrlar!$B$6),0)),0) -> 98381.879 | I13: =Parametrlar!$B$9*I11+IF(Parametrlar!$B$6>0,(1-Parametrlar!$B$9)/MAX(1,Parametrlar!$B$6)*(H12-IF(I$4-1-Parametrlar!$B$6>=0,INDEX($D$12:$FP$12,1,I$4-Parametrlar!$B$6),0)),0) -> 112686.36 | J13: =Parametrlar!$B$9*J11+IF(Parametrlar!$B$6>0,(1-Parametrlar!$B$9)/MAX(1,Parametrlar!$B$6)*(I12-IF(J$4-1-Parametrlar!$B$6>=0,INDEX($D$12:$FP$12,1,J$4-Parametrlar!$B$6),0)),0) -> 113098 | K13: =Parametrlar!$B$9*K11+IF(Parametrlar!$B$6>0,(1-Parametrlar!$B$9)/MAX(1,Parametrlar!$B$6)*(J12-IF(K$4-1-Parametrlar!$B$6>=0,INDEX($D$12:$FP$12,1,K$4-Parametrlar!$B$6),0)),0) -> 113509.64 | L13: =Parametrlar!$B$9*L11+IF(Parametrlar!$B$6>0,(1-Parametrlar!$B$9)/MAX(1,Parametrlar!$B$6)*(K12-IF(L$4-1-Parametrlar!$B$6>=0,INDEX($D$12:$FP$12,1,L$4-Parametrlar!$B$6),0)),0) -> 113921.28 | ... FP13: =Parametrlar!$B$9*FP11+IF(Parametrlar!$B$6>0,(1-Parametrlar!$B$9)/MAX(1,Parametrlar!$B$6)*(FO12-IF(FP$4-1-Parametrlar!$B$6>=0,INDEX($D$12:$FP$12,1,FP$4-Parametrlar!$B$6),0)),0) -> 0
A14: Komissiya va marketing, $ | C14: =SUM(D14:FP14) -> 123312.83 | D14: =D11*(Kirish!$B$17+Kirish!$B$18) -> 0 | E14: =E11*(Kirish!$B$17+Kirish!$B$18) -> 3904.4022 | F14: =F11*(Kirish!$B$17+Kirish!$B$18) -> 3918.8096 | G14: =G11*(Kirish!$B$17+Kirish!$B$18) -> 3933.217 | H14: =H11*(Kirish!$B$17+Kirish!$B$18) -> 3947.6243 | I14: =I11*(Kirish!$B$17+Kirish!$B$18) -> 3962.0317 | J14: =J11*(Kirish!$B$17+Kirish!$B$18) -> 3976.4391 | K14: =K11*(Kirish!$B$17+Kirish!$B$18) -> 3990.8465 | ... FP14: =FP11*(Kirish!$B$17+Kirish!$B$18) -> 0
A15: Sotuvdan foyda solig'i, $ | C15: =SUM(D15:FP15) -> 0 | D15: =MAX(0,Parametrlar!$B$26)*D13*Kirish!$B$28 -> 0 | E15: =MAX(0,Parametrlar!$B$26)*E13*Kirish!$B$28 -> 0 | F15: =MAX(0,Parametrlar!$B$26)*F13*Kirish!$B$28 -> 0 | G15: =MAX(0,Parametrlar!$B$26)*G13*Kirish!$B$28 -> 0 | H15: =MAX(0,Parametrlar!$B$26)*H13*Kirish!$B$28 -> 0 | I15: =MAX(0,Parametrlar!$B$26)*I13*Kirish!$B$28 -> 0 | J15: =MAX(0,Parametrlar!$B$26)*J13*Kirish!$B$28 -> 0 | K15: =MAX(0,Parametrlar!$B$26)*K13*Kirish!$B$28 -> 0 | ... FP15: =MAX(0,Parametrlar!$B$26)*FP13*Kirish!$B$28 -> 0
